BEGIN:VCALENDAR
VERSION:2.0
PRODID:-//Orange Tree Community Association - ECPv6.15.18//NONSGML v1.0//EN
CALSCALE:GREGORIAN
METHOD:PUBLISH
X-WR-CALNAME:Orange Tree Community Association
X-ORIGINAL-URL:https://orangetreecommunity.com
X-WR-CALDESC:Events for Orange Tree Community Association
REFRESH-INTERVAL;VALUE=DURATION:PT1H
X-Robots-Tag:noindex
X-PUBLISHED-TTL:PT1H
BEGIN:VTIMEZONE
TZID:America/New_York
BEGIN:DAYLIGHT
TZOFFSETFROM:-0500
TZOFFSETTO:-0400
TZNAME:EDT
DTSTART:20160313T070000
END:DAYLIGHT
BEGIN:STANDARD
TZOFFSETFROM:-0400
TZOFFSETTO:-0500
TZNAME:EST
DTSTART:20161106T060000
END:STANDARD
BEGIN:DAYLIGHT
TZOFFSETFROM:-0500
TZOFFSETTO:-0400
TZNAME:EDT
DTSTART:20170312T070000
END:DAYLIGHT
BEGIN:STANDARD
TZOFFSETFROM:-0400
TZOFFSETTO:-0500
TZNAME:EST
DTSTART:20171105T060000
END:STANDARD
BEGIN:DAYLIGHT
TZOFFSETFROM:-0500
TZOFFSETTO:-0400
TZNAME:EDT
DTSTART:20180311T070000
END:DAYLIGHT
BEGIN:STANDARD
TZOFFSETFROM:-0400
TZOFFSETTO:-0500
TZNAME:EST
DTSTART:20181104T060000
END:STANDARD
END:VTIMEZONE
BEGIN:VEVENT
DTSTART;TZID=America/New_York:20170915T160000
DTEND;TZID=America/New_York:20170915T183000
DTSTAMP:20260423T060512
CREATED:20170813T014624Z
LAST-MODIFIED:20260312T191911Z
UID:2510-1505491200-1505500200@orangetreecommunity.com
SUMMARY:Adult Movie Night at the Pool: Good Will Hunting
DESCRIPTION:FREE to community members. 18 and up only! Popcorn will be provided; bring your own beverages (no glass!)  \n 
URL:https://orangetreecommunity.com/calendar/adult-movie-night-at-the-pool-good-will-hunting/
LOCATION:Orange Tree Community Association\, 7201 Woodgreen Drive\, Orlando\, FL\, 32819\, United States
CATEGORIES:Social Committee
ORGANIZER;CN="Courtney":MAILTO:courtney@orangetreecommunity.com
END:VEVENT
BEGIN:VEVENT
DTSTART;TZID=America/New_York:20170908T160000
DTEND;TZID=America/New_York:20170908T180000
DTSTAMP:20260423T060512
CREATED:20170811T193805Z
LAST-MODIFIED:20260312T191911Z
UID:2495-1504886400-1504893600@orangetreecommunity.com
SUMMARY:Family Movie Night at the Pool: Mrs. Doubtfire
DESCRIPTION:FREE to all community members. Children under the age of 13 must be accompanied by an adult. Popcorn will be provided; bring your own beverages (no glass!). \n 
URL:https://orangetreecommunity.com/calendar/orange-tree-calendar/
LOCATION:Orange Tree Community Association\, 7201 Woodgreen Drive\, Orlando\, FL\, 32819\, United States
CATEGORIES:Social Committee
ORGANIZER;CN="Courtney":MAILTO:courtney@orangetreecommunity.com
END:VEVENT
BEGIN:VEVENT
DTSTART;TZID=America/New_York:20170824T150000
DTEND;TZID=America/New_York:20170824T170000
DTSTAMP:20260423T060512
CREATED:20170813T023005Z
LAST-MODIFIED:20260312T191911Z
UID:2518-1503586800-1503594000@orangetreecommunity.com
SUMMARY:Bunco
DESCRIPTION:Our theme this month is “Farewell to Summer”! Wear your brightest summer attire and bring your favorite drink! $7 per person. \nRSVP: otreckeola@cfl.rr.com
URL:https://orangetreecommunity.com/calendar/bunco/
CATEGORIES:Social Committee
ORGANIZER;CN="Keola":MAILTO:otreckeola@cfl.rr.com
END:VEVENT
END:VCALENDAR