BEGIN:VCALENDAR
VERSION:2.0
PRODID:-//Orange Tree Community Association - ECPv6.15.18//NONSGML v1.0//EN
CALSCALE:GREGORIAN
METHOD:PUBLISH
X-WR-CALNAME:Orange Tree Community Association
X-ORIGINAL-URL:https://orangetreecommunity.com
X-WR-CALDESC:Events for Orange Tree Community Association
REFRESH-INTERVAL;VALUE=DURATION:PT1H
X-Robots-Tag:noindex
X-PUBLISHED-TTL:PT1H
BEGIN:VTIMEZONE
TZID:America/New_York
BEGIN:DAYLIGHT
TZOFFSETFROM:-0500
TZOFFSETTO:-0400
TZNAME:EDT
DTSTART:20220313T070000
END:DAYLIGHT
BEGIN:STANDARD
TZOFFSETFROM:-0400
TZOFFSETTO:-0500
TZNAME:EST
DTSTART:20221106T060000
END:STANDARD
BEGIN:DAYLIGHT
TZOFFSETFROM:-0500
TZOFFSETTO:-0400
TZNAME:EDT
DTSTART:20230312T070000
END:DAYLIGHT
BEGIN:STANDARD
TZOFFSETFROM:-0400
TZOFFSETTO:-0500
TZNAME:EST
DTSTART:20231105T060000
END:STANDARD
BEGIN:DAYLIGHT
TZOFFSETFROM:-0500
TZOFFSETTO:-0400
TZNAME:EDT
DTSTART:20240310T070000
END:DAYLIGHT
BEGIN:STANDARD
TZOFFSETFROM:-0400
TZOFFSETTO:-0500
TZNAME:EST
DTSTART:20241103T060000
END:STANDARD
END:VTIMEZONE
BEGIN:VEVENT
DTSTART;TZID=America/New_York:20231003T130000
DTEND;TZID=America/New_York:20231003T160000
DTSTAMP:20260420T174117
CREATED:20230905T203712Z
LAST-MODIFIED:20260312T184422Z
UID:6595-1696338000-1696348800@orangetreecommunity.com
SUMMARY:ORANGE TREE NATIONAL NIGHT OUT
DESCRIPTION:Come join your neighbors and local Orange County Sheriff’s Representatives during the Annual National Night Out.
URL:https://orangetreecommunity.com/calendar/orange-tree-national-night-out/
CATEGORIES:Social Committee
END:VEVENT
BEGIN:VEVENT
DTSTART;TZID=America/New_York:20231007T040000
DTEND;TZID=America/New_York:20231007T120000
DTSTAMP:20260420T174117
CREATED:20230905T210125Z
LAST-MODIFIED:20260312T184422Z
UID:6601-1696651200-1696680000@orangetreecommunity.com
SUMMARY:COMMUNITY GARAGE SALE
DESCRIPTION:All participating residents must sign up with the HOA Office by September 29th.
URL:https://orangetreecommunity.com/calendar/community-garage-sale-4/
CATEGORIES:Social Committee
END:VEVENT
END:VCALENDAR