BEGIN:VCALENDAR
VERSION:2.0
PRODID:-//Orange Tree Community Association - ECPv6.15.18//NONSGML v1.0//EN
CALSCALE:GREGORIAN
METHOD:PUBLISH
X-ORIGINAL-URL:https://orangetreecommunity.com
X-WR-CALDESC:Events for Orange Tree Community Association
REFRESH-INTERVAL;VALUE=DURATION:PT1H
X-Robots-Tag:noindex
X-PUBLISHED-TTL:PT1H
BEGIN:VTIMEZONE
TZID:America/New_York
BEGIN:DAYLIGHT
TZOFFSETFROM:-0500
TZOFFSETTO:-0400
TZNAME:EDT
DTSTART:20160313T070000
END:DAYLIGHT
BEGIN:STANDARD
TZOFFSETFROM:-0400
TZOFFSETTO:-0500
TZNAME:EST
DTSTART:20161106T060000
END:STANDARD
BEGIN:DAYLIGHT
TZOFFSETFROM:-0500
TZOFFSETTO:-0400
TZNAME:EDT
DTSTART:20170312T070000
END:DAYLIGHT
BEGIN:STANDARD
TZOFFSETFROM:-0400
TZOFFSETTO:-0500
TZNAME:EST
DTSTART:20171105T060000
END:STANDARD
BEGIN:DAYLIGHT
TZOFFSETFROM:-0500
TZOFFSETTO:-0400
TZNAME:EDT
DTSTART:20180311T070000
END:DAYLIGHT
BEGIN:STANDARD
TZOFFSETFROM:-0400
TZOFFSETTO:-0500
TZNAME:EST
DTSTART:20181104T060000
END:STANDARD
BEGIN:DAYLIGHT
TZOFFSETFROM:-0500
TZOFFSETTO:-0400
TZNAME:EDT
DTSTART:20190310T070000
END:DAYLIGHT
BEGIN:STANDARD
TZOFFSETFROM:-0400
TZOFFSETTO:-0500
TZNAME:EST
DTSTART:20191103T060000
END:STANDARD
END:VTIMEZONE
BEGIN:VEVENT
DTSTART;TZID=America/New_York:20180509T143000
DTEND;TZID=America/New_York:20180509T160000
DTSTAMP:20260420T082217
CREATED:20180410T191937Z
LAST-MODIFIED:20260312T190344Z
UID:3076-1525876200-1525881600@orangetreecommunity.com
SUMMARY:Estate Homes BOD Meeting
DESCRIPTION:
URL:https://orangetreecommunity.com/calendar/estate-homes-bod-meeting-2/
LOCATION:Orange Tree Community Association\, 7201 Woodgreen Drive\, Orlando\, FL\, 32819\, United States
CATEGORIES:Board
END:VEVENT
BEGIN:VEVENT
DTSTART;TZID=America/New_York:20180418T143000
DTEND;TZID=America/New_York:20180418T143000
DTSTAMP:20260420T082217
CREATED:20180320T181504Z
LAST-MODIFIED:20260312T190344Z
UID:3029-1524061800-1524061800@orangetreecommunity.com
SUMMARY:Master Board Meeting
DESCRIPTION:
URL:https://orangetreecommunity.com/calendar/master-board-meeting-2/
CATEGORIES:Board
END:VEVENT
BEGIN:VEVENT
DTSTART;TZID=America/New_York:20180417T150000
DTEND;TZID=America/New_York:20180417T160000
DTSTAMP:20260420T082217
CREATED:20180410T191638Z
LAST-MODIFIED:20260312T190344Z
UID:3074-1523977200-1523980800@orangetreecommunity.com
SUMMARY:St. Ives BOD Meeting
DESCRIPTION:
URL:https://orangetreecommunity.com/calendar/st-ives-bod-meeting-2/
LOCATION:Orange Tree Community Association\, 7201 Woodgreen Drive\, Orlando\, FL\, 32819\, United States
CATEGORIES:Board
END:VEVENT
BEGIN:VEVENT
DTSTART;TZID=America/New_York:20180411T143000
DTEND;TZID=America/New_York:20180411T160000
DTSTAMP:20260420T082217
CREATED:20180320T181435Z
LAST-MODIFIED:20260312T190345Z
UID:3027-1523457000-1523462400@orangetreecommunity.com
SUMMARY:Estate Homes Board Meeting
DESCRIPTION:
URL:https://orangetreecommunity.com/calendar/estate-homes-board-meeting-2/
CATEGORIES:Board
END:VEVENT
BEGIN:VEVENT
DTSTART;TZID=America/New_York:20180328T023000
DTEND;TZID=America/New_York:20180328T160000
DTSTAMP:20260420T082217
CREATED:20180226T202916Z
LAST-MODIFIED:20260312T190345Z
UID:2944-1522204200-1522252800@orangetreecommunity.com
SUMMARY:Master Annual Meeting
DESCRIPTION:Anunal members’ meeting and election of officers: \nVote on Declaration Amendment #5\, authorizing board authority to remove the Woodgreen Fence.
URL:https://orangetreecommunity.com/calendar/master-annual-meeting/
CATEGORIES:Board
END:VEVENT
BEGIN:VEVENT
DTSTART;TZID=America/New_York:20180326T133000
DTEND;TZID=America/New_York:20180326T140000
DTSTAMP:20260420T082217
CREATED:20180322T232413Z
LAST-MODIFIED:20260312T190345Z
UID:3047-1522071000-1522072800@orangetreecommunity.com
SUMMARY:Estate Homes Special Meeting
DESCRIPTION:For the purpose of approving the recommending fencing specs from the 2017 Estate Homes Fence Committee.
URL:https://orangetreecommunity.com/calendar/estate-homes-special-meeting/
CATEGORIES:Board
END:VEVENT
BEGIN:VEVENT
DTSTART;TZID=America/New_York:20180320T143000
DTEND;TZID=America/New_York:20180320T160000
DTSTAMP:20260420T082217
CREATED:20180226T202521Z
LAST-MODIFIED:20260312T190345Z
UID:2942-1521556200-1521561600@orangetreecommunity.com
SUMMARY:St. Ives Annual Meeting
DESCRIPTION:St. Ives annual members’ meeting and election of officers.
URL:https://orangetreecommunity.com/calendar/st-ives-annual-meeting/
CATEGORIES:Board
END:VEVENT
BEGIN:VEVENT
DTSTART;TZID=America/New_York:20180314T143000
DTEND;TZID=America/New_York:20180314T160000
DTSTAMP:20260420T082217
CREATED:20180226T202230Z
LAST-MODIFIED:20260312T190345Z
UID:2940-1521037800-1521043200@orangetreecommunity.com
SUMMARY:Estates Annual Meeting
DESCRIPTION:Estate Homes annual members’ meeting and election of officers.
URL:https://orangetreecommunity.com/calendar/estates-annual-meeting/
LOCATION:Orange Tree Community Association\, 7201 Woodgreen Drive\, Orlando\, FL\, 32819\, United States
CATEGORIES:Board
END:VEVENT
BEGIN:VEVENT
DTSTART;TZID=America/New_York:20180312T143000
DTEND;TZID=America/New_York:20180312T160000
DTSTAMP:20260420T082217
CREATED:20180226T195818Z
LAST-MODIFIED:20260312T190345Z
UID:2938-1520865000-1520870400@orangetreecommunity.com
SUMMARY:Golf Villas Annual Meeting
DESCRIPTION:Annual members’ meeting and election of officers.
URL:https://orangetreecommunity.com/calendar/golf-villas-annual-meeting/
LOCATION:Orange Tree Community Association\, 7201 Woodgreen Drive\, Orlando\, FL\, 32819\, United States
CATEGORIES:Board
END:VEVENT
BEGIN:VEVENT
DTSTART;TZID=America/New_York:20180310T063000
DTEND;TZID=America/New_York:20180310T083000
DTSTAMP:20260420T082217
CREATED:20180226T203259Z
LAST-MODIFIED:20260312T190345Z
UID:2948-1520663400-1520670600@orangetreecommunity.com
SUMMARY:Meet the Candidates
DESCRIPTION:Meet the candidates of the Orange Tree Master Board!
URL:https://orangetreecommunity.com/calendar/meet-the-candidates/
CATEGORIES:Board
END:VEVENT
BEGIN:VEVENT
DTSTART;TZID=America/New_York:20180221T133000
DTEND;TZID=America/New_York:20180221T150000
DTSTAMP:20260420T082217
CREATED:20180119T011304Z
LAST-MODIFIED:20260312T190346Z
UID:2897-1519219800-1519225200@orangetreecommunity.com
SUMMARY:Orange Tree Master Maintenance Association
DESCRIPTION:
URL:https://orangetreecommunity.com/calendar/orange-tree-master-maintenance-association/
CATEGORIES:Board
END:VEVENT
BEGIN:VEVENT
DTSTART;TZID=America/New_York:20180220T140000
DTEND;TZID=America/New_York:20180220T150000
DTSTAMP:20260420T082217
CREATED:20180119T011216Z
LAST-MODIFIED:20260312T190346Z
UID:2895-1519135200-1519138800@orangetreecommunity.com
SUMMARY:St. Ives BOD Meeting
DESCRIPTION:
URL:https://orangetreecommunity.com/calendar/st-ives-bod-meeting/
CATEGORIES:Board
ORGANIZER;CN="Courtney":MAILTO:courtney@orangetreecommunity.com
END:VEVENT
BEGIN:VEVENT
DTSTART;TZID=America/New_York:20180214T030000
DTEND;TZID=America/New_York:20180214T120000
DTSTAMP:20260420T082217
CREATED:20180119T011130Z
LAST-MODIFIED:20260312T190346Z
UID:2893-1518577200-1518609600@orangetreecommunity.com
SUMMARY:Estate Homes BOD Meeting
DESCRIPTION:
URL:https://orangetreecommunity.com/calendar/estate-homes-bod-meeting/
LOCATION:Orange Tree Community Association\, 7201 Woodgreen Drive\, Orlando\, FL\, 32819\, United States
CATEGORIES:Board
ORGANIZER;CN="Courtney":MAILTO:courtney@orangetreecommunity.com
END:VEVENT
BEGIN:VEVENT
DTSTART;TZID=America/New_York:20180212T133000
DTEND;TZID=America/New_York:20180212T143000
DTSTAMP:20260420T082217
CREATED:20180119T011051Z
LAST-MODIFIED:20260312T190346Z
UID:2891-1518442200-1518445800@orangetreecommunity.com
SUMMARY:Golf Villas BOD Meeting
DESCRIPTION:
URL:https://orangetreecommunity.com/calendar/golf-villas-bod-meeting/
LOCATION:Orange Tree Community Association\, 7201 Woodgreen Drive\, Orlando\, FL\, 32819\, United States
CATEGORIES:Board
END:VEVENT
BEGIN:VEVENT
DTSTART;TZID=America/New_York:20180129T133000
DTEND;TZID=America/New_York:20180129T143000
DTSTAMP:20260420T082217
CREATED:20171226T203205Z
LAST-MODIFIED:20260312T190346Z
UID:2865-1517232600-1517236200@orangetreecommunity.com
SUMMARY:Camp Woodgreen Committee Meeting
DESCRIPTION:This is a meeting of the Camp Woodgreen Committee. Residents are invited to attend and participate in an orderly and respectful manner. \n  \n 
URL:https://orangetreecommunity.com/calendar/camp-woodgreen-committee-meeting-2/
CATEGORIES:Board
END:VEVENT
BEGIN:VEVENT
DTSTART;TZID=America/New_York:20180117T133000
DTEND;TZID=America/New_York:20180117T150000
DTSTAMP:20260420T082217
CREATED:20171226T202230Z
LAST-MODIFIED:20260312T190346Z
UID:2857-1516195800-1516201200@orangetreecommunity.com
SUMMARY:Master Board Meeting
DESCRIPTION:All members of the Orange Tree Master Maintenance association are invited to attend and participate in an orderly fashion. \n  \n 
URL:https://orangetreecommunity.com/calendar/master-board-meeting/
CATEGORIES:Board
END:VEVENT
BEGIN:VEVENT
DTSTART;TZID=America/New_York:20180116T140000
DTEND;TZID=America/New_York:20180116T153000
DTSTAMP:20260420T082217
CREATED:20171226T202559Z
LAST-MODIFIED:20260312T190346Z
UID:2855-1516111200-1516116600@orangetreecommunity.com
SUMMARY:St. Ives Board Meeting
DESCRIPTION:All members of St. Ives are invited to attend and participate in an orderly fashion.
URL:https://orangetreecommunity.com/calendar/st-ives-board-meeting/
CATEGORIES:Board
END:VEVENT
BEGIN:VEVENT
DTSTART;TZID=America/New_York:20180110T133000
DTEND;TZID=America/New_York:20180110T150000
DTSTAMP:20260420T082217
CREATED:20171226T202035Z
LAST-MODIFIED:20260312T190347Z
UID:2853-1515591000-1515596400@orangetreecommunity.com
SUMMARY:Estate Homes Board Meeting
DESCRIPTION:All members of the Estate Homes are invited to attend and participate in an orderly fashion.
URL:https://orangetreecommunity.com/calendar/estate-homes-board-meeting/
CATEGORIES:Board
END:VEVENT
BEGIN:VEVENT
DTSTART;TZID=America/New_York:20180108T133000
DTEND;TZID=America/New_York:20180108T133000
DTSTAMP:20260420T082217
CREATED:20171226T201721Z
LAST-MODIFIED:20260312T190347Z
UID:2851-1515418200-1515418200@orangetreecommunity.com
SUMMARY:Golf Villas Board Meeting
DESCRIPTION:All members of the Golf Villas are welcome to participate in an orderly fashion.
URL:https://orangetreecommunity.com/calendar/golf-villas-board-meeting/
CATEGORIES:Board
END:VEVENT
BEGIN:VEVENT
DTSTART;VALUE=DATE:20171231
DTEND;VALUE=DATE:20180102
DTSTAMP:20260420T082217
CREATED:20171226T201209Z
LAST-MODIFIED:20260312T190347Z
UID:2849-1514746800-1514833199@orangetreecommunity.com
SUMMARY:Office Closed - Happy New Year!
DESCRIPTION:We will reopen Tuesday\, January 2 at 8:00am.
URL:https://orangetreecommunity.com/calendar/office-closed-happy-new-year/
CATEGORIES:Board
END:VEVENT
BEGIN:VEVENT
DTSTART;TZID=America/New_York:20171225T030000
DTEND;TZID=America/New_York:20171225T120000
DTSTAMP:20260420T082217
CREATED:20171116T234412Z
LAST-MODIFIED:20260312T190347Z
UID:2792-1514170800-1514203200@orangetreecommunity.com
SUMMARY:Office Closed
DESCRIPTION:
URL:https://orangetreecommunity.com/calendar/office-closed/
CATEGORIES:Board
END:VEVENT
BEGIN:VEVENT
DTSTART;TZID=America/New_York:20171130T114500
DTEND;TZID=America/New_York:20171130T121500
DTSTAMP:20260420T082217
CREATED:20171129T031322Z
LAST-MODIFIED:20260312T190347Z
UID:2819-1512042300-1512044100@orangetreecommunity.com
SUMMARY:Closed Board Meeting - Personnel Matter
DESCRIPTION:This meeting is closed to the community.
URL:https://orangetreecommunity.com/calendar/closed-board-meeting-personnel-matter/
LOCATION:Orange Tree Community Association\, 7201 Woodgreen Drive\, Orlando\, FL\, 32819\, United States
CATEGORIES:Board
END:VEVENT
BEGIN:VEVENT
DTSTART;TZID=America/New_York:20171018T143000
DTEND;TZID=America/New_York:20171018T163000
DTSTAMP:20260420T082217
CREATED:20171018T213625Z
LAST-MODIFIED:20260312T190348Z
UID:2769-1508337000-1508344200@orangetreecommunity.com
SUMMARY:Master October Meeting
DESCRIPTION:
URL:https://orangetreecommunity.com/calendar/master-october-meeting/
CATEGORIES:Board
ORGANIZER;CN="Courtney":MAILTO:courtney@orangetreecommunity.com
END:VEVENT
BEGIN:VEVENT
DTSTART;VALUE=DATE:20170903
DTEND;VALUE=DATE:20170905
DTSTAMP:20260420T082217
CREATED:20170813T012258Z
LAST-MODIFIED:20260312T190348Z
UID:2508-1504468800-1504555199@orangetreecommunity.com
SUMMARY:Labor Day
DESCRIPTION:The office will be closed on Monday September 4 in observance of Labor Day. Recreation Center hours will be 12:00PM – 6:00PM.
URL:https://orangetreecommunity.com/calendar/labor-day/
CATEGORIES:Board
END:VEVENT
END:VCALENDAR