BEGIN:VCALENDAR
VERSION:2.0
PRODID:-//Orange Tree Community Association - ECPv6.15.18//NONSGML v1.0//EN
CALSCALE:GREGORIAN
METHOD:PUBLISH
X-ORIGINAL-URL:https://orangetreecommunity.com
X-WR-CALDESC:Events for Orange Tree Community Association
REFRESH-INTERVAL;VALUE=DURATION:PT1H
X-Robots-Tag:noindex
X-PUBLISHED-TTL:PT1H
BEGIN:VTIMEZONE
TZID:America/New_York
BEGIN:DAYLIGHT
TZOFFSETFROM:-0500
TZOFFSETTO:-0400
TZNAME:EDT
DTSTART:20170312T070000
END:DAYLIGHT
BEGIN:STANDARD
TZOFFSETFROM:-0400
TZOFFSETTO:-0500
TZNAME:EST
DTSTART:20171105T060000
END:STANDARD
BEGIN:DAYLIGHT
TZOFFSETFROM:-0500
TZOFFSETTO:-0400
TZNAME:EDT
DTSTART:20180311T070000
END:DAYLIGHT
BEGIN:STANDARD
TZOFFSETFROM:-0400
TZOFFSETTO:-0500
TZNAME:EST
DTSTART:20181104T060000
END:STANDARD
BEGIN:DAYLIGHT
TZOFFSETFROM:-0500
TZOFFSETTO:-0400
TZNAME:EDT
DTSTART:20190310T070000
END:DAYLIGHT
BEGIN:STANDARD
TZOFFSETFROM:-0400
TZOFFSETTO:-0500
TZNAME:EST
DTSTART:20191103T060000
END:STANDARD
BEGIN:DAYLIGHT
TZOFFSETFROM:-0500
TZOFFSETTO:-0400
TZNAME:EDT
DTSTART:20200308T070000
END:DAYLIGHT
BEGIN:STANDARD
TZOFFSETFROM:-0400
TZOFFSETTO:-0500
TZNAME:EST
DTSTART:20201101T060000
END:STANDARD
END:VTIMEZONE
BEGIN:VEVENT
DTSTART;TZID=America/New_York:20190327T143000
DTEND;TZID=America/New_York:20190327T163000
DTSTAMP:20260420T015004
CREATED:20190228T200306Z
LAST-MODIFIED:20260312T184614Z
UID:3430-1553697000-1553704200@orangetreecommunity.com
SUMMARY:2019 Master Annual Meeting
DESCRIPTION:2019 Annual Members’ Meeting\nwww.orangetreemaster.ivotehoa.com\nThe annual meeting will be immediately followed by an organizational/regular meeting of the board.
URL:https://orangetreecommunity.com/calendar/2019-master-annual-meeting/
CATEGORIES:Board
END:VEVENT
BEGIN:VEVENT
DTSTART;TZID=America/New_York:20190319T143000
DTEND;TZID=America/New_York:20190319T163000
DTSTAMP:20260420T015004
CREATED:20190228T200126Z
LAST-MODIFIED:20260312T184614Z
UID:3428-1553005800-1553013000@orangetreecommunity.com
SUMMARY:2019 St. Ives Annual Meeting
DESCRIPTION:2019 Annual Members’ Meeting\norangetreestives.ivotehoa.com\nThe annual meeting will be immediately followed by an organizational/regular meeting of the board.
URL:https://orangetreecommunity.com/calendar/2019-st-ives-annual-meeting/
CATEGORIES:Board
END:VEVENT
BEGIN:VEVENT
DTSTART;TZID=America/New_York:20190311T143000
DTEND;TZID=America/New_York:20190311T163000
DTSTAMP:20260420T015004
CREATED:20190228T195239Z
LAST-MODIFIED:20260312T184615Z
UID:3426-1552314600-1552321800@orangetreecommunity.com
SUMMARY:2019 Estate Homes Annual Meeting
DESCRIPTION:2019 Annual Members’ Meeting\norangetreeestatehomes.ivotehoa.com\nThe annual meeting will be immediately followed by an organizational/regular meeting of the board.
URL:https://orangetreecommunity.com/calendar/2019-estate-homes-annual-meeting/
CATEGORIES:Board
END:VEVENT
BEGIN:VEVENT
DTSTART;TZID=America/New_York:20190304T133000
DTEND;TZID=America/New_York:20190304T153000
DTSTAMP:20260420T015004
CREATED:20190228T195126Z
LAST-MODIFIED:20260312T184615Z
UID:3424-1551706200-1551713400@orangetreecommunity.com
SUMMARY:Golf Villas Annual Meeting
DESCRIPTION:2019 Annual Members’ Meeting\norangetreegolfvillas.ivotehoa.com \nThe annual meeting will be immediately followed by an organizational/regular meeting of the board.
URL:https://orangetreecommunity.com/calendar/golf-villas-annual-meeting-2/
CATEGORIES:Board
END:VEVENT
BEGIN:VEVENT
DTSTART;TZID=America/New_York:20190223T050000
DTEND;TZID=America/New_York:20190223T063000
DTSTAMP:20260420T015004
CREATED:20190116T224828Z
LAST-MODIFIED:20260312T184615Z
UID:3376-1550898000-1550903400@orangetreecommunity.com
SUMMARY:Master Candidate Forum
DESCRIPTION:
URL:https://orangetreecommunity.com/calendar/master-candidate-forum/
CATEGORIES:Board
END:VEVENT
BEGIN:VEVENT
DTSTART;TZID=America/New_York:20190220T133000
DTEND;TZID=America/New_York:20190220T150000
DTSTAMP:20260420T015004
CREATED:20190116T223823Z
LAST-MODIFIED:20260312T184615Z
UID:3372-1550669400-1550674800@orangetreecommunity.com
SUMMARY:Master Board Meeting
DESCRIPTION:
URL:https://orangetreecommunity.com/calendar/master-board-meeting-10/
CATEGORIES:Board
END:VEVENT
BEGIN:VEVENT
DTSTART;TZID=America/New_York:20190219T140000
DTEND;TZID=America/New_York:20190219T153000
DTSTAMP:20260420T015004
CREATED:20190116T223321Z
LAST-MODIFIED:20260312T184615Z
UID:3370-1550584800-1550590200@orangetreecommunity.com
SUMMARY:St. Ives BOD Meeting
DESCRIPTION:
URL:https://orangetreecommunity.com/calendar/st-ives-bod-meeting-9/
CATEGORIES:Board
END:VEVENT
BEGIN:VEVENT
DTSTART;TZID=America/New_York:20190213T133000
DTEND;TZID=America/New_York:20190213T150000
DTSTAMP:20260420T015004
CREATED:20190116T223115Z
LAST-MODIFIED:20260312T184615Z
UID:3368-1550064600-1550070000@orangetreecommunity.com
SUMMARY:Estate Homes BOD Meeting
DESCRIPTION:
URL:https://orangetreecommunity.com/calendar/estate-homes-bod-meeting-7/
CATEGORIES:Board
END:VEVENT
BEGIN:VEVENT
DTSTART;TZID=America/New_York:20190116T133000
DTEND;TZID=America/New_York:20190116T150000
DTSTAMP:20260420T015004
CREATED:20190116T222819Z
LAST-MODIFIED:20260312T184616Z
UID:3366-1547645400-1547650800@orangetreecommunity.com
SUMMARY:MASTER BOARD MEETING
DESCRIPTION:
URL:https://orangetreecommunity.com/calendar/master-board-meeting-9/
CATEGORIES:Board
END:VEVENT
BEGIN:VEVENT
DTSTART;TZID=America/New_York:20190115T140000
DTEND;TZID=America/New_York:20190115T153000
DTSTAMP:20260420T015004
CREATED:20190102T185911Z
LAST-MODIFIED:20260312T184616Z
UID:3357-1547560800-1547566200@orangetreecommunity.com
SUMMARY:St. Ives BOD Meeting
DESCRIPTION:
URL:https://orangetreecommunity.com/calendar/st-ives-bod-meeting-8/
CATEGORIES:Board
END:VEVENT
BEGIN:VEVENT
DTSTART;TZID=America/New_York:20190109T133000
DTEND;TZID=America/New_York:20190109T150000
DTSTAMP:20260420T015004
CREATED:20190102T185743Z
LAST-MODIFIED:20260312T184616Z
UID:3355-1547040600-1547046000@orangetreecommunity.com
SUMMARY:Estate Homes BOD Meeting
DESCRIPTION:
URL:https://orangetreecommunity.com/calendar/estate-homes-bod-meeting-6/
CATEGORIES:Board
END:VEVENT
BEGIN:VEVENT
DTSTART;TZID=America/New_York:20190107T133000
DTEND;TZID=America/New_York:20190107T150000
DTSTAMP:20260420T015004
CREATED:20190102T185500Z
LAST-MODIFIED:20260312T184616Z
UID:3353-1546867800-1546873200@orangetreecommunity.com
SUMMARY:Golf Villas BOD Meeting
DESCRIPTION:
URL:https://orangetreecommunity.com/calendar/golf-villas-bod-meeting-7/
CATEGORIES:Board
END:VEVENT
BEGIN:VEVENT
DTSTART;TZID=America/New_York:20181225T030000
DTEND;TZID=America/New_York:20181225T120000
DTSTAMP:20260420T015004
CREATED:20181130T230336Z
LAST-MODIFIED:20260312T184616Z
UID:3313-1545706800-1545739200@orangetreecommunity.com
SUMMARY:Office Closed
DESCRIPTION:
URL:https://orangetreecommunity.com/calendar/office-closed-3/
CATEGORIES:Board
END:VEVENT
BEGIN:VEVENT
DTSTART;VALUE=DATE:20181221
DTEND;VALUE=DATE:20181223
DTSTAMP:20260420T015004
CREATED:20181130T225207Z
LAST-MODIFIED:20260312T184616Z
UID:3311-1545418800-1545505199@orangetreecommunity.com
SUMMARY:Office Closed
DESCRIPTION:
URL:https://orangetreecommunity.com/calendar/office-closed-2/
CATEGORIES:Board
END:VEVENT
BEGIN:VEVENT
DTSTART;TZID=America/New_York:20181119T123000
DTEND;TZID=America/New_York:20181119T143000
DTSTAMP:20260420T015004
CREATED:20181105T215954Z
LAST-MODIFIED:20260312T190340Z
UID:3282-1542630600-1542637800@orangetreecommunity.com
SUMMARY:St. Ives BOD Meeting
DESCRIPTION:
URL:https://orangetreecommunity.com/calendar/st-ives-bod-meeting-7/
CATEGORIES:Board
END:VEVENT
BEGIN:VEVENT
DTSTART;TZID=America/New_York:20181114T133000
DTEND;TZID=America/New_York:20181114T150000
DTSTAMP:20260420T015004
CREATED:20181105T215305Z
LAST-MODIFIED:20260312T190341Z
UID:3278-1542202200-1542207600@orangetreecommunity.com
SUMMARY:Estate Homes BOD Meeting
DESCRIPTION:
URL:https://orangetreecommunity.com/calendar/estate-homes-bod-meeting-5/
CATEGORIES:Board
END:VEVENT
BEGIN:VEVENT
DTSTART;TZID=America/New_York:20181113T133000
DTEND;TZID=America/New_York:20181113T150000
DTSTAMP:20260420T015004
CREATED:20181105T215128Z
LAST-MODIFIED:20260312T190341Z
UID:3276-1542115800-1542121200@orangetreecommunity.com
SUMMARY:Master Board Meeting
DESCRIPTION:
URL:https://orangetreecommunity.com/calendar/master-board-meeting-8/
CATEGORIES:Board
END:VEVENT
BEGIN:VEVENT
DTSTART;TZID=America/New_York:20181112T133000
DTEND;TZID=America/New_York:20181112T150000
DTSTAMP:20260420T015004
CREATED:20181105T214942Z
LAST-MODIFIED:20260312T190341Z
UID:3274-1542029400-1542034800@orangetreecommunity.com
SUMMARY:Golf Villas BOD Meeting
DESCRIPTION:
URL:https://orangetreecommunity.com/calendar/golf-villas-bod-meeting-6/
CATEGORIES:Board
END:VEVENT
BEGIN:VEVENT
DTSTART;TZID=America/New_York:20181106T020000
DTEND;TZID=America/New_York:20181106T140000
DTSTAMP:20260420T015004
CREATED:20181105T213851Z
LAST-MODIFIED:20260312T190341Z
UID:3270-1541469600-1541512800@orangetreecommunity.com
SUMMARY:ELECTION DAY 7:00 AM TO 7:00 PM
DESCRIPTION:
URL:https://orangetreecommunity.com/calendar/election-day-till-700-pm/
CATEGORIES:Board
END:VEVENT
BEGIN:VEVENT
DTSTART;TZID=America/New_York:20181022T140000
DTEND;TZID=America/New_York:20181022T160000
DTSTAMP:20260420T015004
CREATED:20181011T012624Z
LAST-MODIFIED:20260312T190341Z
UID:3245-1540216800-1540224000@orangetreecommunity.com
SUMMARY:Estate Homes Board of Directors
DESCRIPTION:Estate Homes Board Meeting @ 6:00 PM in The Rec Center
URL:https://orangetreecommunity.com/calendar/estate-homes-board-of-directors/
CATEGORIES:Board
END:VEVENT
BEGIN:VEVENT
DTSTART;TZID=America/New_York:20181017T143000
DTEND;TZID=America/New_York:20181017T160000
DTSTAMP:20260420T015004
CREATED:20180320T182228Z
LAST-MODIFIED:20260312T190341Z
UID:3041-1539786600-1539792000@orangetreecommunity.com
SUMMARY:Master Board Meeting
DESCRIPTION:
URL:https://orangetreecommunity.com/calendar/master-board-meeting-7/
CATEGORIES:Board
END:VEVENT
BEGIN:VEVENT
DTSTART;TZID=America/New_York:20181016T150000
DTEND;TZID=America/New_York:20181016T163000
DTSTAMP:20260420T015004
CREATED:20180921T231913Z
LAST-MODIFIED:20260312T190341Z
UID:3209-1539702000-1539707400@orangetreecommunity.com
SUMMARY:St. Ives BOD Meeting (Postponed)
DESCRIPTION:Meeting Postponed till further notice
URL:https://orangetreecommunity.com/calendar/st-ives-bod-meeting-6/
CATEGORIES:Board
END:VEVENT
BEGIN:VEVENT
DTSTART;TZID=America/New_York:20181009T143000
DTEND;TZID=America/New_York:20181009T153000
DTSTAMP:20260420T015004
CREATED:20181010T204520Z
LAST-MODIFIED:20260312T190341Z
UID:3242-1539095400-1539099000@orangetreecommunity.com
SUMMARY:Master Board Town Hall Budget Meeting
DESCRIPTION:To review any changes to the budget.
URL:https://orangetreecommunity.com/calendar/master-board-town-hall-budget-meeting/
CATEGORIES:Board
END:VEVENT
BEGIN:VEVENT
DTSTART;TZID=America/New_York:20181009T143000
DTEND;TZID=America/New_York:20181009T153000
DTSTAMP:20260420T015004
CREATED:20180921T231651Z
LAST-MODIFIED:20260312T190341Z
UID:3205-1539095400-1539099000@orangetreecommunity.com
SUMMARY:Budget Townhall Meeting
DESCRIPTION:Informal meeting to go over 2019 Master budget changes.
URL:https://orangetreecommunity.com/calendar/budget-townhall-meeting/
CATEGORIES:Board
END:VEVENT
BEGIN:VEVENT
DTSTART;TZID=America/New_York:20180929T053000
DTEND;TZID=America/New_York:20180929T073000
DTSTAMP:20260420T015004
CREATED:20180320T182059Z
LAST-MODIFIED:20260312T190342Z
UID:3039-1538199000-1538206200@orangetreecommunity.com
SUMMARY:Master Board Meeting
DESCRIPTION:Board vote on Woodgreen Fence.
URL:https://orangetreecommunity.com/calendar/master-board-meeting-6/
CATEGORIES:Board
END:VEVENT
BEGIN:VEVENT
DTSTART;TZID=America/New_York:20180918T150000
DTEND;TZID=America/New_York:20180918T170000
DTSTAMP:20260420T015004
CREATED:20180829T185635Z
LAST-MODIFIED:20260312T190342Z
UID:3193-1537282800-1537290000@orangetreecommunity.com
SUMMARY:St. Ives BOD Meeting
DESCRIPTION:
URL:https://orangetreecommunity.com/calendar/st-ives-bod-meeting-5/
CATEGORIES:Board
END:VEVENT
BEGIN:VEVENT
DTSTART;TZID=America/New_York:20180910T143000
DTEND;TZID=America/New_York:20180910T163000
DTSTAMP:20260420T015004
CREATED:20180829T185436Z
LAST-MODIFIED:20260312T190342Z
UID:3191-1536589800-1536597000@orangetreecommunity.com
SUMMARY:Golf Villas BOD Meeting
DESCRIPTION:
URL:https://orangetreecommunity.com/calendar/golf-villas-bod-meeting-5/
CATEGORIES:Board
END:VEVENT
BEGIN:VEVENT
DTSTART;TZID=America/New_York:20180904T143000
DTEND;TZID=America/New_York:20180904T163000
DTSTAMP:20260420T015004
CREATED:20180829T185352Z
LAST-MODIFIED:20260312T190342Z
UID:3189-1536071400-1536078600@orangetreecommunity.com
SUMMARY:Estate Homes BOD Meeting
DESCRIPTION:
URL:https://orangetreecommunity.com/calendar/estate-homes-bod-meeting-4/
CATEGORIES:Board
END:VEVENT
BEGIN:VEVENT
DTSTART;TZID=America/New_York:20180815T143000
DTEND;TZID=America/New_York:20180815T160000
DTSTAMP:20260420T015004
CREATED:20180320T182018Z
LAST-MODIFIED:20260312T190342Z
UID:3037-1534343400-1534348800@orangetreecommunity.com
SUMMARY:Master Board Meeting
DESCRIPTION:
URL:https://orangetreecommunity.com/calendar/master-board-meeting-5/
CATEGORIES:Board
END:VEVENT
BEGIN:VEVENT
DTSTART;TZID=America/New_York:20180814T150000
DTEND;TZID=America/New_York:20180814T163000
DTSTAMP:20260420T015004
CREATED:20180628T211549Z
LAST-MODIFIED:20260312T190342Z
UID:3135-1534258800-1534264200@orangetreecommunity.com
SUMMARY:St. Ives BOD Meeting
DESCRIPTION:
URL:https://orangetreecommunity.com/calendar/st-ives-bod-meeting-4/
CATEGORIES:Board
END:VEVENT
END:VCALENDAR