BEGIN:VCALENDAR
VERSION:2.0
PRODID:-//Orange Tree Community Association - ECPv6.15.18//NONSGML v1.0//EN
CALSCALE:GREGORIAN
METHOD:PUBLISH
X-ORIGINAL-URL:https://orangetreecommunity.com
X-WR-CALDESC:Events for Orange Tree Community Association
REFRESH-INTERVAL;VALUE=DURATION:PT1H
X-Robots-Tag:noindex
X-PUBLISHED-TTL:PT1H
BEGIN:VTIMEZONE
TZID:America/New_York
BEGIN:DAYLIGHT
TZOFFSETFROM:-0500
TZOFFSETTO:-0400
TZNAME:EDT
DTSTART:20180311T070000
END:DAYLIGHT
BEGIN:STANDARD
TZOFFSETFROM:-0400
TZOFFSETTO:-0500
TZNAME:EST
DTSTART:20181104T060000
END:STANDARD
BEGIN:DAYLIGHT
TZOFFSETFROM:-0500
TZOFFSETTO:-0400
TZNAME:EDT
DTSTART:20190310T070000
END:DAYLIGHT
BEGIN:STANDARD
TZOFFSETFROM:-0400
TZOFFSETTO:-0500
TZNAME:EST
DTSTART:20191103T060000
END:STANDARD
BEGIN:DAYLIGHT
TZOFFSETFROM:-0500
TZOFFSETTO:-0400
TZNAME:EDT
DTSTART:20200308T070000
END:DAYLIGHT
BEGIN:STANDARD
TZOFFSETFROM:-0400
TZOFFSETTO:-0500
TZNAME:EST
DTSTART:20201101T060000
END:STANDARD
BEGIN:DAYLIGHT
TZOFFSETFROM:-0500
TZOFFSETTO:-0400
TZNAME:EDT
DTSTART:20210314T070000
END:DAYLIGHT
BEGIN:STANDARD
TZOFFSETFROM:-0400
TZOFFSETTO:-0500
TZNAME:EST
DTSTART:20211107T060000
END:STANDARD
END:VTIMEZONE
BEGIN:VEVENT
DTSTART;TZID=America/New_York:20200617T143000
DTEND;TZID=America/New_York:20200617T160000
DTSTAMP:20260419T192649
CREATED:20200607T195613Z
LAST-MODIFIED:20260312T184609Z
UID:3694-1592404200-1592409600@orangetreecommunity.com
SUMMARY:MASTER BOD MEETING
DESCRIPTION:Meeting will be conducted via Phone or Video\, Links will be emailed prior to meeting.\nPlease update your email address by emailing all info to iris@orangetreecommunity.com
URL:https://orangetreecommunity.com/calendar/master-bod-meeting-7/
CATEGORIES:Board
END:VEVENT
BEGIN:VEVENT
DTSTART;TZID=America/New_York:20200616T150000
DTEND;TZID=America/New_York:20200616T163000
DTSTAMP:20260419T192649
CREATED:20200607T195455Z
LAST-MODIFIED:20260312T184609Z
UID:3692-1592319600-1592325000@orangetreecommunity.com
SUMMARY:ST. IVES BOD MEETING
DESCRIPTION:Meeting will be conducted via Phone or Video\, Links will be emailed prior to meeting.\nPlease update your email address by emailing all info to iris@orangetreecommunity.com
URL:https://orangetreecommunity.com/calendar/st-ives-bod-meeting-18/
CATEGORIES:Board
END:VEVENT
BEGIN:VEVENT
DTSTART;TZID=America/New_York:20200610T143000
DTEND;TZID=America/New_York:20200610T160000
DTSTAMP:20260419T192649
CREATED:20200607T195046Z
LAST-MODIFIED:20260312T184609Z
UID:3690-1591799400-1591804800@orangetreecommunity.com
SUMMARY:ESTATE HOMES BOD MEETING
DESCRIPTION:Meeting will be conducted Via Phone or Video\, Links will be emailed prior to meeting.\nPlease update your email address by emailing all info to iris@orangetreecommunity.com
URL:https://orangetreecommunity.com/calendar/estate-homes-bod-meeting-12/
CATEGORIES:Board
END:VEVENT
BEGIN:VEVENT
DTSTART;TZID=America/New_York:20200520T143000
DTEND;TZID=America/New_York:20200520T160000
DTSTAMP:20260419T192649
CREATED:20200511T220124Z
LAST-MODIFIED:20260312T184609Z
UID:3671-1589985000-1589990400@orangetreecommunity.com
SUMMARY:Orange Tree Master BOD Meeting
DESCRIPTION:Meeting will be conducted Via Phone or Video\, Links will be emailed prior to meeting\, please update your email address by emailing all info to iris@orangetreecommunity.com
URL:https://orangetreecommunity.com/calendar/orange-tree-master-bod-meeting-2/
CATEGORIES:Board
END:VEVENT
BEGIN:VEVENT
DTSTART;TZID=America/New_York:20200519T150000
DTEND;TZID=America/New_York:20200519T163000
DTSTAMP:20260419T192649
CREATED:20200511T220240Z
LAST-MODIFIED:20260312T184609Z
UID:3673-1589900400-1589905800@orangetreecommunity.com
SUMMARY:St. Ives BOD Meeting
DESCRIPTION:Meeting will be conducted Via Phone or Video\, Links will be emailed prior to meeting\, please update your email address by emailing all info to iris@orangetreecommunity.com
URL:https://orangetreecommunity.com/calendar/st-ives-bod-meeting-17/
CATEGORIES:Board
END:VEVENT
BEGIN:VEVENT
DTSTART;TZID=America/New_York:20200421T150000
DTEND;TZID=America/New_York:20200421T170000
DTSTAMP:20260419T192649
CREATED:20200413T213439Z
LAST-MODIFIED:20260312T184609Z
UID:3666-1587481200-1587488400@orangetreecommunity.com
SUMMARY:St. Ives BOD Meeting
DESCRIPTION:All Meetings will be done Via Video or Phone\, please check your emails for info or call the office 407-351-8747
URL:https://orangetreecommunity.com/calendar/st-ives-bod-meeting-16/
CATEGORIES:Board
END:VEVENT
BEGIN:VEVENT
DTSTART;TZID=America/New_York:20200416T140000
DTEND;TZID=America/New_York:20200416T160000
DTSTAMP:20260419T192649
CREATED:20200413T213313Z
LAST-MODIFIED:20260312T184610Z
UID:3664-1587045600-1587052800@orangetreecommunity.com
SUMMARY:Etate Homes BOD Meeting
DESCRIPTION:All Meetings will be done Via Video or Phone\, please check your emails for info or call the office 407-351-8747
URL:https://orangetreecommunity.com/calendar/etate-homes-bod-meeting/
CATEGORIES:Board
END:VEVENT
BEGIN:VEVENT
DTSTART;TZID=America/New_York:20200415T143000
DTEND;TZID=America/New_York:20200415T163000
DTSTAMP:20260419T192649
CREATED:20200413T213055Z
LAST-MODIFIED:20260312T184610Z
UID:3662-1586961000-1586968200@orangetreecommunity.com
SUMMARY:Master BOD Meeting
DESCRIPTION:All Meetings will be done Via Video or Phone\, please check your emails for info or call the office 407-351-8747
URL:https://orangetreecommunity.com/calendar/master-bod-meeting-6/
CATEGORIES:Board
END:VEVENT
BEGIN:VEVENT
DTSTART;TZID=America/New_York:20200229T050000
DTEND;TZID=America/New_York:20200229T070000
DTSTAMP:20260419T192649
CREATED:20200221T212149Z
LAST-MODIFIED:20260312T184610Z
UID:3632-1582952400-1582959600@orangetreecommunity.com
SUMMARY:Candidate Forum
DESCRIPTION:Join your neighbors at the Recreation Center and Meet your HOA Candidates.
URL:https://orangetreecommunity.com/calendar/candidate-forum/
CATEGORIES:Board
END:VEVENT
BEGIN:VEVENT
DTSTART;TZID=America/New_York:20200123T140000
DTEND;TZID=America/New_York:20200123T150000
DTSTAMP:20260419T192649
CREATED:20200123T215347Z
LAST-MODIFIED:20260312T184610Z
UID:3630-1579788000-1579791600@orangetreecommunity.com
SUMMARY:ST. IVES BOD EMERGENCY MEETING
DESCRIPTION:
URL:https://orangetreecommunity.com/calendar/st-ives-bod-emergency-meeting/
CATEGORIES:Board
END:VEVENT
BEGIN:VEVENT
DTSTART;TZID=America/New_York:20200121T140000
DTEND;TZID=America/New_York:20200121T153000
DTSTAMP:20260419T192649
CREATED:20200107T231200Z
LAST-MODIFIED:20260312T184610Z
UID:3617-1579615200-1579620600@orangetreecommunity.com
SUMMARY:St. Ives BOD Meeting
DESCRIPTION:
URL:https://orangetreecommunity.com/calendar/st-ives-bod-meeting-15/
CATEGORIES:Board
END:VEVENT
BEGIN:VEVENT
DTSTART;TZID=America/New_York:20200120T133000
DTEND;TZID=America/New_York:20200120T150000
DTSTAMP:20260419T192649
CREATED:20200121T002807Z
LAST-MODIFIED:20260312T184610Z
UID:3627-1579527000-1579532400@orangetreecommunity.com
SUMMARY:Closed Master Board Meeting
DESCRIPTION:
URL:https://orangetreecommunity.com/calendar/closed-master-board-meeting/
CATEGORIES:Board
END:VEVENT
BEGIN:VEVENT
DTSTART;TZID=America/New_York:20200115T133000
DTEND;TZID=America/New_York:20200115T150000
DTSTAMP:20260419T192649
CREATED:20200107T231123Z
LAST-MODIFIED:20260312T184610Z
UID:3615-1579095000-1579100400@orangetreecommunity.com
SUMMARY:Master BOD Meeting
DESCRIPTION:
URL:https://orangetreecommunity.com/calendar/master-bod-meeting-5/
CATEGORIES:Board
END:VEVENT
BEGIN:VEVENT
DTSTART;TZID=America/New_York:20200108T133000
DTEND;TZID=America/New_York:20200108T150000
DTSTAMP:20260419T192649
CREATED:20200107T231030Z
LAST-MODIFIED:20260312T184610Z
UID:3613-1578490200-1578495600@orangetreecommunity.com
SUMMARY:Estate Homes BOD Meeting
DESCRIPTION:
URL:https://orangetreecommunity.com/calendar/estate-homes-bod-meeting-11/
CATEGORIES:Board
END:VEVENT
BEGIN:VEVENT
DTSTART;TZID=America/New_York:20200106T133000
DTEND;TZID=America/New_York:20200106T150000
DTSTAMP:20260419T192649
CREATED:20200107T230541Z
LAST-MODIFIED:20260312T184611Z
UID:3611-1578317400-1578322800@orangetreecommunity.com
SUMMARY:Golf Villas BOD Meeting
DESCRIPTION:
URL:https://orangetreecommunity.com/calendar/golf-villas-bod-meeting-10/
CATEGORIES:Board
END:VEVENT
BEGIN:VEVENT
DTSTART;TZID=America/New_York:20191120T140000
DTEND;TZID=America/New_York:20191120T150000
DTSTAMP:20260419T192649
CREATED:20191118T212759Z
LAST-MODIFIED:20260312T184611Z
UID:3602-1574258400-1574262000@orangetreecommunity.com
SUMMARY:Closed Master Meeting
DESCRIPTION:
URL:https://orangetreecommunity.com/calendar/closed-master-meeting/
CATEGORIES:Board
END:VEVENT
BEGIN:VEVENT
DTSTART;TZID=America/New_York:20191120T133000
DTEND;TZID=America/New_York:20191120T150000
DTSTAMP:20260419T192649
CREATED:20191106T214113Z
LAST-MODIFIED:20260312T184611Z
UID:3597-1574256600-1574262000@orangetreecommunity.com
SUMMARY:MASTER BUDGET/BOD MEETING
DESCRIPTION:Closed Meeting to fallow
URL:https://orangetreecommunity.com/calendar/master-budget-bod-meeting/
CATEGORIES:Board
END:VEVENT
BEGIN:VEVENT
DTSTART;TZID=America/New_York:20191119T133000
DTEND;TZID=America/New_York:20191119T150000
DTSTAMP:20260419T192649
CREATED:20191106T210743Z
LAST-MODIFIED:20260312T184611Z
UID:3595-1574170200-1574175600@orangetreecommunity.com
SUMMARY:ST. IVES BUDGET/BOD MEETING
DESCRIPTION:
URL:https://orangetreecommunity.com/calendar/st-ives-budget-bod-meeting/
CATEGORIES:Board
END:VEVENT
BEGIN:VEVENT
DTSTART;TZID=America/New_York:20191118T133000
DTEND;TZID=America/New_York:20191118T150000
DTSTAMP:20260419T192649
CREATED:20191106T205509Z
LAST-MODIFIED:20260312T184611Z
UID:3593-1574083800-1574089200@orangetreecommunity.com
SUMMARY:GOLF VILLAS BUDGET/BOD MEETING
DESCRIPTION:
URL:https://orangetreecommunity.com/calendar/golf-villas-budget-bod-meeting/
CATEGORIES:Board
END:VEVENT
BEGIN:VEVENT
DTSTART;TZID=America/New_York:20191115T123000
DTEND;TZID=America/New_York:20191115T140000
DTSTAMP:20260419T192649
CREATED:20191106T205023Z
LAST-MODIFIED:20260312T184611Z
UID:3591-1573821000-1573826400@orangetreecommunity.com
SUMMARY:ESTATES BUDGET/BOD MEETING
DESCRIPTION:
URL:https://orangetreecommunity.com/calendar/estates-budget-bod-meeting/
CATEGORIES:Board
END:VEVENT
BEGIN:VEVENT
DTSTART;TZID=America/New_York:20191107T133000
DTEND;TZID=America/New_York:20191107T150000
DTSTAMP:20260419T192649
CREATED:20191106T204548Z
LAST-MODIFIED:20260312T184611Z
UID:3589-1573133400-1573138800@orangetreecommunity.com
SUMMARY:TOWN HALL MEETING
DESCRIPTION:
URL:https://orangetreecommunity.com/calendar/town-hall-meeting/
CATEGORIES:Board
END:VEVENT
BEGIN:VEVENT
DTSTART;TZID=America/New_York:20190924T150000
DTEND;TZID=America/New_York:20190924T163000
DTSTAMP:20260419T192649
CREATED:20190906T191939Z
LAST-MODIFIED:20260312T184612Z
UID:3544-1569337200-1569342600@orangetreecommunity.com
SUMMARY:St. Ives BOD Meeting
DESCRIPTION:
URL:https://orangetreecommunity.com/calendar/st-ives-bod-meeting-14/
CATEGORIES:Board
END:VEVENT
BEGIN:VEVENT
DTSTART;TZID=America/New_York:20190918T143000
DTEND;TZID=America/New_York:20190918T160000
DTSTAMP:20260419T192649
CREATED:20190906T191805Z
LAST-MODIFIED:20260312T184612Z
UID:3542-1568817000-1568822400@orangetreecommunity.com
SUMMARY:Master BOD Meeting
DESCRIPTION:
URL:https://orangetreecommunity.com/calendar/master-bod-meeting-4/
CATEGORIES:Board
END:VEVENT
BEGIN:VEVENT
DTSTART;TZID=America/New_York:20190911T143000
DTEND;TZID=America/New_York:20190911T160000
DTSTAMP:20260419T192649
CREATED:20190906T191549Z
LAST-MODIFIED:20260312T184612Z
UID:3540-1568212200-1568217600@orangetreecommunity.com
SUMMARY:Estate Homes BOD Meeting
DESCRIPTION:
URL:https://orangetreecommunity.com/calendar/estate-homes-bod-meeting-10/
CATEGORIES:Board
END:VEVENT
BEGIN:VEVENT
DTSTART;TZID=America/New_York:20190909T143000
DTEND;TZID=America/New_York:20190909T160000
DTSTAMP:20260419T192649
CREATED:20190906T191427Z
LAST-MODIFIED:20260312T184612Z
UID:3538-1568039400-1568044800@orangetreecommunity.com
SUMMARY:Golf Villas BOD Meeting
DESCRIPTION:
URL:https://orangetreecommunity.com/calendar/golf-villas-bod-meeting-9/
CATEGORIES:Board
END:VEVENT
BEGIN:VEVENT
DTSTART;TZID=America/New_York:20190822T130000
DTEND;TZID=America/New_York:20190822T150000
DTSTAMP:20260419T192649
CREATED:20190813T215011Z
LAST-MODIFIED:20260312T184612Z
UID:3527-1566478800-1566486000@orangetreecommunity.com
SUMMARY:CLOSED MASTER BOD MEETING
DESCRIPTION:
URL:https://orangetreecommunity.com/calendar/closed-master-bod-meeting-2/
CATEGORIES:Board
END:VEVENT
BEGIN:VEVENT
DTSTART;TZID=America/New_York:20190821T143000
DTEND;TZID=America/New_York:20190821T160000
DTSTAMP:20260419T192649
CREATED:20190731T232247Z
LAST-MODIFIED:20260312T184612Z
UID:3515-1566397800-1566403200@orangetreecommunity.com
SUMMARY:Master BOD Meeting
DESCRIPTION:
URL:https://orangetreecommunity.com/calendar/master-bod-meeting-3/
CATEGORIES:Board
END:VEVENT
BEGIN:VEVENT
DTSTART;TZID=America/New_York:20190820T150000
DTEND;TZID=America/New_York:20190820T163000
DTSTAMP:20260419T192649
CREATED:20190731T230611Z
LAST-MODIFIED:20260312T184612Z
UID:3513-1566313200-1566318600@orangetreecommunity.com
SUMMARY:St. Ives BOD Meeting
DESCRIPTION:
URL:https://orangetreecommunity.com/calendar/st-ives-bod-meeting-13/
CATEGORIES:Board
END:VEVENT
BEGIN:VEVENT
DTSTART;TZID=America/New_York:20190817T050000
DTEND;TZID=America/New_York:20190817T080000
DTSTAMP:20260419T192649
CREATED:20190813T210624Z
LAST-MODIFIED:20260312T184613Z
UID:3525-1566018000-1566028800@orangetreecommunity.com
SUMMARY:CLOSED MASTER BOD MEETING
DESCRIPTION:
URL:https://orangetreecommunity.com/calendar/closed-master-bod-meeting/
CATEGORIES:Board
END:VEVENT
BEGIN:VEVENT
DTSTART;TZID=America/New_York:20190814T143000
DTEND;TZID=America/New_York:20190814T160000
DTSTAMP:20260419T192649
CREATED:20190731T230426Z
LAST-MODIFIED:20260312T184613Z
UID:3511-1565793000-1565798400@orangetreecommunity.com
SUMMARY:Estate Homes BOD Meeting
DESCRIPTION:
URL:https://orangetreecommunity.com/calendar/estate-homes-bod-meeting-9/
CATEGORIES:Board
END:VEVENT
END:VCALENDAR