BEGIN:VCALENDAR
VERSION:2.0
PRODID:-//Orange Tree Community Association - ECPv6.15.18//NONSGML v1.0//EN
CALSCALE:GREGORIAN
METHOD:PUBLISH
X-WR-CALNAME:Orange Tree Community Association
X-ORIGINAL-URL:https://orangetreecommunity.com
X-WR-CALDESC:Events for Orange Tree Community Association
REFRESH-INTERVAL;VALUE=DURATION:PT1H
X-Robots-Tag:noindex
X-PUBLISHED-TTL:PT1H
BEGIN:VTIMEZONE
TZID:America/New_York
BEGIN:DAYLIGHT
TZOFFSETFROM:-0500
TZOFFSETTO:-0400
TZNAME:EDT
DTSTART:20190310T070000
END:DAYLIGHT
BEGIN:STANDARD
TZOFFSETFROM:-0400
TZOFFSETTO:-0500
TZNAME:EST
DTSTART:20191103T060000
END:STANDARD
BEGIN:DAYLIGHT
TZOFFSETFROM:-0500
TZOFFSETTO:-0400
TZNAME:EDT
DTSTART:20200308T070000
END:DAYLIGHT
BEGIN:STANDARD
TZOFFSETFROM:-0400
TZOFFSETTO:-0500
TZNAME:EST
DTSTART:20201101T060000
END:STANDARD
BEGIN:DAYLIGHT
TZOFFSETFROM:-0500
TZOFFSETTO:-0400
TZNAME:EDT
DTSTART:20210314T070000
END:DAYLIGHT
BEGIN:STANDARD
TZOFFSETFROM:-0400
TZOFFSETTO:-0500
TZNAME:EST
DTSTART:20211107T060000
END:STANDARD
BEGIN:DAYLIGHT
TZOFFSETFROM:-0500
TZOFFSETTO:-0400
TZNAME:EDT
DTSTART:20220313T070000
END:DAYLIGHT
BEGIN:STANDARD
TZOFFSETFROM:-0400
TZOFFSETTO:-0500
TZNAME:EST
DTSTART:20221106T060000
END:STANDARD
END:VTIMEZONE
BEGIN:VEVENT
DTSTART;TZID=America/New_York:20210111T133000
DTEND;TZID=America/New_York:20210111T150000
DTSTAMP:20260419T162806
CREATED:20210108T193945Z
LAST-MODIFIED:20260312T184606Z
UID:3999-1610371800-1610377200@orangetreecommunity.com
SUMMARY:Golf Villas BOD Meeting
DESCRIPTION:The Golf Villa BOD Meeting\, will be held at the Recreation Center\, fallowing all social distancing guidelines.\nan email will be sent out to all homeowners with information on how to attend the meeting via phone or video.
URL:https://orangetreecommunity.com/calendar/golf-villas-bod-meeting-13/
CATEGORIES:Board
END:VEVENT
BEGIN:VEVENT
DTSTART;TZID=America/New_York:20201118T133000
DTEND;TZID=America/New_York:20201118T150000
DTSTAMP:20260419T162806
CREATED:20201105T002300Z
LAST-MODIFIED:20260312T184606Z
UID:3927-1605706200-1605711600@orangetreecommunity.com
SUMMARY:Master Budget and BOD Meeting (Closed meeting to follow)
DESCRIPTION:Please join the meeting via phone or video\, an email has been sent with link information. \nPlease update your email address with the HOA office.
URL:https://orangetreecommunity.com/calendar/master-budget-meeting/
CATEGORIES:Board
END:VEVENT
BEGIN:VEVENT
DTSTART;TZID=America/New_York:20201117T133000
DTEND;TZID=America/New_York:20201117T150000
DTSTAMP:20260419T162806
CREATED:20201105T001950Z
LAST-MODIFIED:20260312T184606Z
UID:3925-1605619800-1605625200@orangetreecommunity.com
SUMMARY:St Ives Budget and BOD Meeting
DESCRIPTION:Please join the meeting via phone or video\, an email has been sent with link information. \nPlease update your email address with the HOA office.
URL:https://orangetreecommunity.com/calendar/st-ives-budget-meeting-and-bod-meeting/
CATEGORIES:Board
END:VEVENT
BEGIN:VEVENT
DTSTART;TZID=America/New_York:20201111T133000
DTEND;TZID=America/New_York:20201111T150000
DTSTAMP:20260419T162806
CREATED:20201105T002935Z
LAST-MODIFIED:20260312T184606Z
UID:3933-1605101400-1605106800@orangetreecommunity.com
SUMMARY:Estate Homes Budget and BOD Meeting
DESCRIPTION:Please join the meeting via phone or video\, an email has been sent with link information. \nPlease update your email address with the HOA office.
URL:https://orangetreecommunity.com/calendar/estate-homes-budget-and-bod-meeting/
CATEGORIES:Board
END:VEVENT
BEGIN:VEVENT
DTSTART;TZID=America/New_York:20201109T133000
DTEND;TZID=America/New_York:20201109T150000
DTSTAMP:20260419T162806
CREATED:20201105T002644Z
LAST-MODIFIED:20260312T184606Z
UID:3929-1604928600-1604934000@orangetreecommunity.com
SUMMARY:Golf Villas Budget and BOD Meeting
DESCRIPTION:Please join the meeting via phone\, video\, or in-person at the Recreation Center\, an email has been sent with link information. \nPlease update your email address with the HOA office.
URL:https://orangetreecommunity.com/calendar/golf-villas-budget-and-bod-meeting/
CATEGORIES:Board
END:VEVENT
BEGIN:VEVENT
DTSTART;TZID=America/New_York:20201028T143000
DTEND;TZID=America/New_York:20201028T160000
DTSTAMP:20260419T162806
CREATED:20201028T013821Z
LAST-MODIFIED:20260312T184606Z
UID:3915-1603895400-1603900800@orangetreecommunity.com
SUMMARY:Orange Tree Master Town Hall 2021 Budget Meeting
DESCRIPTION:Please join the Town hall Via Phone or Video\, an Email has been sent to you with a link.\nPlease stop by the HOA Office to pick up a hard copy of the Proposed Budget.\nNot receiving emails ?\, Please update your email with the office
URL:https://orangetreecommunity.com/calendar/orange-tree-master-town-hall-2021-budget-meeting/
CATEGORIES:Board
END:VEVENT
BEGIN:VEVENT
DTSTART;TZID=America/New_York:20201021T023000
DTEND;TZID=America/New_York:20201021T160000
DTSTAMP:20260419T162806
CREATED:20201002T230717Z
LAST-MODIFIED:20260312T184607Z
UID:3836-1603247400-1603296000@orangetreecommunity.com
SUMMARY:Master Board BOD Meeting
DESCRIPTION:Join the meeting via phone or video\, an email will be sent out with link information.\nPlease update your email with the HOA Office.
URL:https://orangetreecommunity.com/calendar/master-board-bod-meeting/
CATEGORIES:Board
END:VEVENT
BEGIN:VEVENT
DTSTART;TZID=America/New_York:20201020T150000
DTEND;TZID=America/New_York:20201020T160000
DTSTAMP:20260419T162806
CREATED:20201002T230618Z
LAST-MODIFIED:20260312T184607Z
UID:3834-1603206000-1603209600@orangetreecommunity.com
SUMMARY:St Ives BOD Meeting
DESCRIPTION:Join the meeting via phone or video\, an email will be sent out with link information.\nPlease update your email with the HOA Office.
URL:https://orangetreecommunity.com/calendar/st-ives-bod-meeting-21/
CATEGORIES:Board
END:VEVENT
BEGIN:VEVENT
DTSTART;TZID=America/New_York:20201015T143000
DTEND;TZID=America/New_York:20201015T160000
DTSTAMP:20260419T162806
CREATED:20201016T164145Z
LAST-MODIFIED:20260312T184607Z
UID:3906-1602772200-1602777600@orangetreecommunity.com
SUMMARY:Special Meeting
DESCRIPTION:Please join the meeting via phone or video\na link will be emailed to you\, please update your email address by contacting the HOA Office
URL:https://orangetreecommunity.com/calendar/special-meeting/
CATEGORIES:Board
END:VEVENT
BEGIN:VEVENT
DTSTART;TZID=America/New_York:20201014T143000
DTEND;TZID=America/New_York:20201014T160000
DTSTAMP:20260419T162806
CREATED:20201002T230319Z
LAST-MODIFIED:20260312T184607Z
UID:3832-1602685800-1602691200@orangetreecommunity.com
SUMMARY:Estate Homes BOD Meeting
DESCRIPTION:Join the meeting via phone or video\, an email will be sent out with link information.\nPlease update your email with the HOA Office.
URL:https://orangetreecommunity.com/calendar/estate-homes-bod-meeting-15/
CATEGORIES:Board
END:VEVENT
BEGIN:VEVENT
DTSTART;TZID=America/New_York:20200916T143000
DTEND;TZID=America/New_York:20200916T160000
DTSTAMP:20260419T162806
CREATED:20200908T173151Z
LAST-MODIFIED:20260312T184607Z
UID:3760-1600266600-1600272000@orangetreecommunity.com
SUMMARY:ORANGE TREE MASTER BOD MEETING /CLOSED MEETING TO FOLLOW
DESCRIPTION:Please join the meeting\, an email will be sent with information on how to connect\, please update your email by calling the HOA Office 407-351-8747 Thank You.
URL:https://orangetreecommunity.com/calendar/orange-tree-master-bod-meeting-3/
CATEGORIES:Board
END:VEVENT
BEGIN:VEVENT
DTSTART;TZID=America/New_York:20200915T150000
DTEND;TZID=America/New_York:20200915T163000
DTSTAMP:20260419T162806
CREATED:20200911T182315Z
LAST-MODIFIED:20260312T184607Z
UID:3765-1600182000-1600187400@orangetreecommunity.com
SUMMARY:ST. IVES BOD MEETING
DESCRIPTION:Please Join the meeting via phone or video\, a link will be emailed to you\, please update your email address with the office\, 407-351-8747
URL:https://orangetreecommunity.com/calendar/st-ives-bod-meeting-20/
CATEGORIES:Board
END:VEVENT
BEGIN:VEVENT
DTSTART;TZID=America/New_York:20200914T143000
DTEND;TZID=America/New_York:20200914T160000
DTSTAMP:20260419T162806
CREATED:20200908T172816Z
LAST-MODIFIED:20260312T184607Z
UID:3756-1600093800-1600099200@orangetreecommunity.com
SUMMARY:Golf Villas BOD Meeting (Postponed)
DESCRIPTION:Golf Villa Community\, \nThe Golf Villa Board meeting for September 14th has been postponed. We anticipate it will be scheduled the following week. Once it is scheduled\, notification will be sent via email and also posted at the community entrances. \nWarren Stilwell\nGolf Villa Board
URL:https://orangetreecommunity.com/calendar/golf-villas-bod-meeting-12/
CATEGORIES:Board
END:VEVENT
BEGIN:VEVENT
DTSTART;TZID=America/New_York:20200909T143000
DTEND;TZID=America/New_York:20200909T160000
DTSTAMP:20260419T162806
CREATED:20200908T172631Z
LAST-MODIFIED:20260312T184608Z
UID:3754-1599661800-1599667200@orangetreecommunity.com
SUMMARY:ESTATE HOMES BOD MEETING
DESCRIPTION:Please join the meeting\, an email will be sent with information on how to connect\, please update your email by calling the HOA Office 407-351-8747 Thank You.
URL:https://orangetreecommunity.com/calendar/estate-homes-bod-meeting-14/
CATEGORIES:Board
END:VEVENT
BEGIN:VEVENT
DTSTART;TZID=America/New_York:20200819T143000
DTEND;TZID=America/New_York:20200819T160000
DTSTAMP:20260419T162806
CREATED:20200810T221406Z
LAST-MODIFIED:20260312T184608Z
UID:3748-1597847400-1597852800@orangetreecommunity.com
SUMMARY:MASTER BOD MEETING
DESCRIPTION:Please join the meeting\, an email will be sent with information on how to connect\, please update your email by calling the HOA Office 407-351-8747 Thank You.
URL:https://orangetreecommunity.com/calendar/master-bod-meeting-8/
CATEGORIES:Board
END:VEVENT
BEGIN:VEVENT
DTSTART;TZID=America/New_York:20200818T150000
DTEND;TZID=America/New_York:20200818T170000
DTSTAMP:20260419T162806
CREATED:20200810T221027Z
LAST-MODIFIED:20260312T184608Z
UID:3746-1597762800-1597770000@orangetreecommunity.com
SUMMARY:ST. IVES BOD MEETING
DESCRIPTION:Please join the meeting\, an email will be sent with information on how to connect\, please update your email by calling the HOA Office 407-351-8747 Thank You.
URL:https://orangetreecommunity.com/calendar/st-ives-bod-meeting-19/
CATEGORIES:Board
END:VEVENT
BEGIN:VEVENT
DTSTART;TZID=America/New_York:20200818T030000
DTEND;TZID=America/New_York:20200818T150000
DTSTAMP:20260419T162806
CREATED:20200810T223124Z
LAST-MODIFIED:20260312T184608Z
UID:3750-1597719600-1597762800@orangetreecommunity.com
SUMMARY:ELECTION DAY  PRIMARIES
DESCRIPTION:POOL & GYM CLOSED  –
URL:https://orangetreecommunity.com/calendar/election-day-primaries/
CATEGORIES:Board
END:VEVENT
BEGIN:VEVENT
DTSTART;TZID=America/New_York:20200812T143000
DTEND;TZID=America/New_York:20200812T160000
DTSTAMP:20260419T162806
CREATED:20200810T220906Z
LAST-MODIFIED:20260312T184608Z
UID:3744-1597242600-1597248000@orangetreecommunity.com
SUMMARY:ESTATE HOMES BOD MEETING
DESCRIPTION:Please join the meeting\, an email will be sent with information on how to connect\, please update your email by calling the HOA Office 407-351-8747 Thank You.
URL:https://orangetreecommunity.com/calendar/estate-homes-bod-meeting-13/
CATEGORIES:Board
END:VEVENT
BEGIN:VEVENT
DTSTART;TZID=America/New_York:20200715T143000
DTEND;TZID=America/New_York:20200715T160000
DTSTAMP:20260419T162806
CREATED:20200711T033501Z
LAST-MODIFIED:20260312T184608Z
UID:3717-1594823400-1594828800@orangetreecommunity.com
SUMMARY:MASTER BOD MEETING WITH CLOSED MEETING TO FOLLOW
DESCRIPTION:Information on how to join meeting will be sent via email\, please contact the Orange Tree Office to update your email address\, Thank You.
URL:https://orangetreecommunity.com/calendar/master-bod-meeting-with-closed-meeting-to-follow/
CATEGORIES:Board
END:VEVENT
BEGIN:VEVENT
DTSTART;TZID=America/New_York:20200713T143000
DTEND;TZID=America/New_York:20200713T160000
DTSTAMP:20260419T162806
CREATED:20200711T032815Z
LAST-MODIFIED:20260312T184608Z
UID:3715-1594650600-1594656000@orangetreecommunity.com
SUMMARY:GOLF VILLAS BOD MEETING
DESCRIPTION:Information on how to join meeting will be sent via email\, please contact the Orange Tree Office to update your email address\, Thank You
URL:https://orangetreecommunity.com/calendar/golf-villas-bod-meeting-11/
CATEGORIES:Board
END:VEVENT
BEGIN:VEVENT
DTSTART;TZID=America/New_York:20200617T143000
DTEND;TZID=America/New_York:20200617T160000
DTSTAMP:20260419T162806
CREATED:20200607T195613Z
LAST-MODIFIED:20260312T184609Z
UID:3694-1592404200-1592409600@orangetreecommunity.com
SUMMARY:MASTER BOD MEETING
DESCRIPTION:Meeting will be conducted via Phone or Video\, Links will be emailed prior to meeting.\nPlease update your email address by emailing all info to iris@orangetreecommunity.com
URL:https://orangetreecommunity.com/calendar/master-bod-meeting-7/
CATEGORIES:Board
END:VEVENT
BEGIN:VEVENT
DTSTART;TZID=America/New_York:20200616T150000
DTEND;TZID=America/New_York:20200616T163000
DTSTAMP:20260419T162806
CREATED:20200607T195455Z
LAST-MODIFIED:20260312T184609Z
UID:3692-1592319600-1592325000@orangetreecommunity.com
SUMMARY:ST. IVES BOD MEETING
DESCRIPTION:Meeting will be conducted via Phone or Video\, Links will be emailed prior to meeting.\nPlease update your email address by emailing all info to iris@orangetreecommunity.com
URL:https://orangetreecommunity.com/calendar/st-ives-bod-meeting-18/
CATEGORIES:Board
END:VEVENT
BEGIN:VEVENT
DTSTART;TZID=America/New_York:20200610T143000
DTEND;TZID=America/New_York:20200610T160000
DTSTAMP:20260419T162806
CREATED:20200607T195046Z
LAST-MODIFIED:20260312T184609Z
UID:3690-1591799400-1591804800@orangetreecommunity.com
SUMMARY:ESTATE HOMES BOD MEETING
DESCRIPTION:Meeting will be conducted Via Phone or Video\, Links will be emailed prior to meeting.\nPlease update your email address by emailing all info to iris@orangetreecommunity.com
URL:https://orangetreecommunity.com/calendar/estate-homes-bod-meeting-12/
CATEGORIES:Board
END:VEVENT
BEGIN:VEVENT
DTSTART;TZID=America/New_York:20200520T143000
DTEND;TZID=America/New_York:20200520T160000
DTSTAMP:20260419T162806
CREATED:20200511T220124Z
LAST-MODIFIED:20260312T184609Z
UID:3671-1589985000-1589990400@orangetreecommunity.com
SUMMARY:Orange Tree Master BOD Meeting
DESCRIPTION:Meeting will be conducted Via Phone or Video\, Links will be emailed prior to meeting\, please update your email address by emailing all info to iris@orangetreecommunity.com
URL:https://orangetreecommunity.com/calendar/orange-tree-master-bod-meeting-2/
CATEGORIES:Board
END:VEVENT
BEGIN:VEVENT
DTSTART;TZID=America/New_York:20200519T150000
DTEND;TZID=America/New_York:20200519T163000
DTSTAMP:20260419T162806
CREATED:20200511T220240Z
LAST-MODIFIED:20260312T184609Z
UID:3673-1589900400-1589905800@orangetreecommunity.com
SUMMARY:St. Ives BOD Meeting
DESCRIPTION:Meeting will be conducted Via Phone or Video\, Links will be emailed prior to meeting\, please update your email address by emailing all info to iris@orangetreecommunity.com
URL:https://orangetreecommunity.com/calendar/st-ives-bod-meeting-17/
CATEGORIES:Board
END:VEVENT
BEGIN:VEVENT
DTSTART;TZID=America/New_York:20200421T150000
DTEND;TZID=America/New_York:20200421T170000
DTSTAMP:20260419T162806
CREATED:20200413T213439Z
LAST-MODIFIED:20260312T184609Z
UID:3666-1587481200-1587488400@orangetreecommunity.com
SUMMARY:St. Ives BOD Meeting
DESCRIPTION:All Meetings will be done Via Video or Phone\, please check your emails for info or call the office 407-351-8747
URL:https://orangetreecommunity.com/calendar/st-ives-bod-meeting-16/
CATEGORIES:Board
END:VEVENT
BEGIN:VEVENT
DTSTART;TZID=America/New_York:20200416T140000
DTEND;TZID=America/New_York:20200416T160000
DTSTAMP:20260419T162806
CREATED:20200413T213313Z
LAST-MODIFIED:20260312T184610Z
UID:3664-1587045600-1587052800@orangetreecommunity.com
SUMMARY:Etate Homes BOD Meeting
DESCRIPTION:All Meetings will be done Via Video or Phone\, please check your emails for info or call the office 407-351-8747
URL:https://orangetreecommunity.com/calendar/etate-homes-bod-meeting/
CATEGORIES:Board
END:VEVENT
BEGIN:VEVENT
DTSTART;TZID=America/New_York:20200415T143000
DTEND;TZID=America/New_York:20200415T163000
DTSTAMP:20260419T162806
CREATED:20200413T213055Z
LAST-MODIFIED:20260312T184610Z
UID:3662-1586961000-1586968200@orangetreecommunity.com
SUMMARY:Master BOD Meeting
DESCRIPTION:All Meetings will be done Via Video or Phone\, please check your emails for info or call the office 407-351-8747
URL:https://orangetreecommunity.com/calendar/master-bod-meeting-6/
CATEGORIES:Board
END:VEVENT
BEGIN:VEVENT
DTSTART;TZID=America/New_York:20200229T050000
DTEND;TZID=America/New_York:20200229T070000
DTSTAMP:20260419T162806
CREATED:20200221T212149Z
LAST-MODIFIED:20260312T184610Z
UID:3632-1582952400-1582959600@orangetreecommunity.com
SUMMARY:Candidate Forum
DESCRIPTION:Join your neighbors at the Recreation Center and Meet your HOA Candidates.
URL:https://orangetreecommunity.com/calendar/candidate-forum/
CATEGORIES:Board
END:VEVENT
BEGIN:VEVENT
DTSTART;TZID=America/New_York:20200123T140000
DTEND;TZID=America/New_York:20200123T150000
DTSTAMP:20260419T162806
CREATED:20200123T215347Z
LAST-MODIFIED:20260312T184610Z
UID:3630-1579788000-1579791600@orangetreecommunity.com
SUMMARY:ST. IVES BOD EMERGENCY MEETING
DESCRIPTION:
URL:https://orangetreecommunity.com/calendar/st-ives-bod-emergency-meeting/
CATEGORIES:Board
END:VEVENT
END:VCALENDAR