BEGIN:VCALENDAR
VERSION:2.0
PRODID:-//Orange Tree Community Association - ECPv6.15.18//NONSGML v1.0//EN
CALSCALE:GREGORIAN
METHOD:PUBLISH
X-ORIGINAL-URL:https://orangetreecommunity.com
X-WR-CALDESC:Events for Orange Tree Community Association
REFRESH-INTERVAL;VALUE=DURATION:PT1H
X-Robots-Tag:noindex
X-PUBLISHED-TTL:PT1H
BEGIN:VTIMEZONE
TZID:America/New_York
BEGIN:DAYLIGHT
TZOFFSETFROM:-0500
TZOFFSETTO:-0400
TZNAME:EDT
DTSTART:20190310T070000
END:DAYLIGHT
BEGIN:STANDARD
TZOFFSETFROM:-0400
TZOFFSETTO:-0500
TZNAME:EST
DTSTART:20191103T060000
END:STANDARD
BEGIN:DAYLIGHT
TZOFFSETFROM:-0500
TZOFFSETTO:-0400
TZNAME:EDT
DTSTART:20200308T070000
END:DAYLIGHT
BEGIN:STANDARD
TZOFFSETFROM:-0400
TZOFFSETTO:-0500
TZNAME:EST
DTSTART:20201101T060000
END:STANDARD
BEGIN:DAYLIGHT
TZOFFSETFROM:-0500
TZOFFSETTO:-0400
TZNAME:EDT
DTSTART:20210314T070000
END:DAYLIGHT
BEGIN:STANDARD
TZOFFSETFROM:-0400
TZOFFSETTO:-0500
TZNAME:EST
DTSTART:20211107T060000
END:STANDARD
BEGIN:DAYLIGHT
TZOFFSETFROM:-0500
TZOFFSETTO:-0400
TZNAME:EDT
DTSTART:20220313T070000
END:DAYLIGHT
BEGIN:STANDARD
TZOFFSETFROM:-0400
TZOFFSETTO:-0500
TZNAME:EST
DTSTART:20221106T060000
END:STANDARD
END:VTIMEZONE
BEGIN:VEVENT
DTSTART;TZID=America/New_York:20210616T143000
DTEND;TZID=America/New_York:20210616T160000
DTSTAMP:20260419T131946
CREATED:20210607T202918Z
LAST-MODIFIED:20260312T184340Z
UID:4598-1623853800-1623859200@orangetreecommunity.com
SUMMARY:MASTER BOD MEETING
DESCRIPTION:Please join the meeting by phone or video\, a link will be sent out via email\, please update your email address with the HOA Office.
URL:https://orangetreecommunity.com/calendar/master-bod-meeting-10/
CATEGORIES:Board
END:VEVENT
BEGIN:VEVENT
DTSTART;TZID=America/New_York:20210609T143000
DTEND;TZID=America/New_York:20210609T160000
DTSTAMP:20260419T131947
CREATED:20210607T203054Z
LAST-MODIFIED:20260312T184340Z
UID:4601-1623249000-1623254400@orangetreecommunity.com
SUMMARY:ESTATE HOMES BOD MEETING
DESCRIPTION:Please join the meeting by phone or video\, a link will be sent out via email\, please update your email address with the HOA Office.
URL:https://orangetreecommunity.com/calendar/estate-homes-bod-meeting-20/
CATEGORIES:Board
END:VEVENT
BEGIN:VEVENT
DTSTART;TZID=America/New_York:20210519T143000
DTEND;TZID=America/New_York:20210519T160000
DTSTAMP:20260419T131947
CREATED:20210329T195335Z
LAST-MODIFIED:20260312T184340Z
UID:4251-1621434600-1621440000@orangetreecommunity.com
SUMMARY:MASTER BOD MEETING
DESCRIPTION:Please join the meeting by phone or video\, a link will be sent out via email\, please update your email address with the HOA Office.
URL:https://orangetreecommunity.com/calendar/master-bod-meeting-9/
CATEGORIES:Board
END:VEVENT
BEGIN:VEVENT
DTSTART;TZID=America/New_York:20210518T150000
DTEND;TZID=America/New_York:20210518T163000
DTSTAMP:20260419T131947
CREATED:20210329T195231Z
LAST-MODIFIED:20260312T184340Z
UID:4249-1621350000-1621355400@orangetreecommunity.com
SUMMARY:ST. IVES BOD MEETING
DESCRIPTION:Please join the meeting by phone or video\, a link will be sent out via email\, please update your email address with the HOA Office.
URL:https://orangetreecommunity.com/calendar/st-ives-bod-meeting-25/
CATEGORIES:Board
END:VEVENT
BEGIN:VEVENT
DTSTART;TZID=America/New_York:20210511T143000
DTEND;TZID=America/New_York:20210511T160000
DTSTAMP:20260419T131947
CREATED:20210329T195049Z
LAST-MODIFIED:20260312T184340Z
UID:4247-1620743400-1620748800@orangetreecommunity.com
SUMMARY:ESTATE HOMES BOD MEETING
DESCRIPTION:Please join the meeting by phone or video\, a link will be sent out via email\, please update your email address with the HOA Office.
URL:https://orangetreecommunity.com/calendar/estate-homes-bod-meeting-19/
CATEGORIES:Board
END:VEVENT
BEGIN:VEVENT
DTSTART;TZID=America/New_York:20210510T143000
DTEND;TZID=America/New_York:20210510T160000
DTSTAMP:20260419T131947
CREATED:20210329T194926Z
LAST-MODIFIED:20260312T184340Z
UID:4245-1620657000-1620662400@orangetreecommunity.com
SUMMARY:GOLF VILLAS BOD MEETING
DESCRIPTION:Please join the meeting by phone or video\, a link will be sent out via email\, please update your email address with the HOA Office.
URL:https://orangetreecommunity.com/calendar/golf-villas-bod-meeting-14/
CATEGORIES:Board
END:VEVENT
BEGIN:VEVENT
DTSTART;TZID=America/New_York:20210502T043000
DTEND;TZID=America/New_York:20210502T170000
DTSTAMP:20260419T131947
CREATED:20210501T005601Z
LAST-MODIFIED:20260312T184340Z
UID:4548-1619929800-1619974800@orangetreecommunity.com
SUMMARY:Closed Master Board Meeting
DESCRIPTION:Closed Master board meeting Sunday night\, May 2nd from 8:30pm-9pm
URL:https://orangetreecommunity.com/calendar/closed-master-board-meeting-2/
CATEGORIES:Board
END:VEVENT
BEGIN:VEVENT
DTSTART;TZID=America/New_York:20210421T143000
DTEND;TZID=America/New_York:20210421T150000
DTSTAMP:20260419T131947
CREATED:20210329T194708Z
LAST-MODIFIED:20260312T184340Z
UID:4243-1619015400-1619017200@orangetreecommunity.com
SUMMARY:MASTER BOD MEETINGS
DESCRIPTION:A CLOSED MEETING WILL BE HELD AT 6:30 PM\nMONTHLY BOARD MEETING TO START AT 7:00 PM\nPlease join the meeting by phone or video\, a link will be sent out via email\, please update your email address with the HOA Office.
URL:https://orangetreecommunity.com/calendar/master-bod-meetings/
CATEGORIES:Board
END:VEVENT
BEGIN:VEVENT
DTSTART;TZID=America/New_York:20210420T150000
DTEND;TZID=America/New_York:20210420T163000
DTSTAMP:20260419T131947
CREATED:20210329T194235Z
LAST-MODIFIED:20260312T184341Z
UID:4241-1618930800-1618936200@orangetreecommunity.com
SUMMARY:ST. IVES BOD MEETING
DESCRIPTION:Please join the meeting by phone or video\, a link will be sent out via email\, please update your email address with the HOA Office.
URL:https://orangetreecommunity.com/calendar/st-ives-bod-meeting-24/
CATEGORIES:Board
END:VEVENT
BEGIN:VEVENT
DTSTART;TZID=America/New_York:20210414T143000
DTEND;TZID=America/New_York:20210414T160000
DTSTAMP:20260419T131947
CREATED:20210329T193846Z
LAST-MODIFIED:20260312T184341Z
UID:4239-1618410600-1618416000@orangetreecommunity.com
SUMMARY:ESTATE HOMES BOD MEETING
DESCRIPTION:Please join the meeting by phone or video\, a link will be sent out via email\, please update your email address with the HOA Office.
URL:https://orangetreecommunity.com/calendar/estate-homes-bod-meeting-18/
CATEGORIES:Board
END:VEVENT
BEGIN:VEVENT
DTSTART;TZID=America/New_York:20210317T143000
DTEND;TZID=America/New_York:20210317T160000
DTSTAMP:20260419T131947
CREATED:20210302T234738Z
LAST-MODIFIED:20260312T184341Z
UID:4205-1615991400-1615996800@orangetreecommunity.com
SUMMARY:MASTER ANNUAL & BOD MEETINGS
DESCRIPTION:Please join the meeting by phone or video\, a link will be sent out via email\, please update your email address with the HOA Office. \nVoting is now open\, you may vote online or by mail\, please make sure you write your name and address on the envelopes.
URL:https://orangetreecommunity.com/calendar/master-annual-bod-meetings/
CATEGORIES:Board
END:VEVENT
BEGIN:VEVENT
DTSTART;TZID=America/New_York:20210316T143000
DTEND;TZID=America/New_York:20210316T160000
DTSTAMP:20260419T131947
CREATED:20210302T234625Z
LAST-MODIFIED:20260312T184341Z
UID:4203-1615905000-1615910400@orangetreecommunity.com
SUMMARY:ST. IVES ANNUAL & BOD MEETINGS
DESCRIPTION:Please join the meeting by phone or video\, a link will be sent out via email\, please update your email address with the HOA Office. \nVoting is now open\, you may vote online or by mail\, please make sure you write your name and address on the envelopes.
URL:https://orangetreecommunity.com/calendar/st-ives-annual-bod-meetings/
CATEGORIES:Board
END:VEVENT
BEGIN:VEVENT
DTSTART;TZID=America/New_York:20210310T133000
DTEND;TZID=America/New_York:20210310T150000
DTSTAMP:20260419T131947
CREATED:20210302T234358Z
LAST-MODIFIED:20260312T184341Z
UID:4201-1615383000-1615388400@orangetreecommunity.com
SUMMARY:ESTATE HOMES ANNUAL MEETING & BOD MEETING
DESCRIPTION:Please join the meeting by phone or video\, a link will be sent out via email\, please update your email address with the HOA Office. \nVoting is now open\, you may vote online or by mail\, please make sure you write your name and address on the envelopes.
URL:https://orangetreecommunity.com/calendar/estate-homes-annual-meeting-bod-meeting/
CATEGORIES:Board
END:VEVENT
BEGIN:VEVENT
DTSTART;TZID=America/New_York:20210308T133000
DTEND;TZID=America/New_York:20210308T150000
DTSTAMP:20260419T131947
CREATED:20210302T234231Z
LAST-MODIFIED:20260312T184341Z
UID:4199-1615210200-1615215600@orangetreecommunity.com
SUMMARY:GOLF VILLAS ANNUAL MEETING & BOD MEETING
DESCRIPTION:Please join the meeting by phone or video\, a link will be sent out via email\, please update your email address with the HOA Office. \nVoting is now open\, you may vote online or by mail\, please make sure you write your name and address on the envelopes.
URL:https://orangetreecommunity.com/calendar/golf-villas-annual-meeting-bod-meeting/
CATEGORIES:Board
END:VEVENT
BEGIN:VEVENT
DTSTART;TZID=America/New_York:20210217T133000
DTEND;TZID=America/New_York:20210217T150000
DTSTAMP:20260419T131947
CREATED:20210108T195227Z
LAST-MODIFIED:20260312T184341Z
UID:4009-1613568600-1613574000@orangetreecommunity.com
SUMMARY:Orange Tree Master BOD Meeting
DESCRIPTION:Please join the meeting via phone or video\, an email will be sent with a link and information\, please update your email address with the HOA Office.
URL:https://orangetreecommunity.com/calendar/orange-tree-master-bod-meeting-5/
CATEGORIES:Board
END:VEVENT
BEGIN:VEVENT
DTSTART;TZID=America/New_York:20210210T133000
DTEND;TZID=America/New_York:20210210T150000
DTSTAMP:20260419T131947
CREATED:20210108T195113Z
LAST-MODIFIED:20260312T184342Z
UID:4007-1612963800-1612969200@orangetreecommunity.com
SUMMARY:Estate Homes BOD Meeting
DESCRIPTION:Please join the meeting via phone or video\, an email will be sent with a link and information\, please update your email address with the HOA Office.
URL:https://orangetreecommunity.com/calendar/estate-homes-bod-meeting-17/
CATEGORIES:Board
END:VEVENT
BEGIN:VEVENT
DTSTART;TZID=America/New_York:20210209T140000
DTEND;TZID=America/New_York:20210209T153000
DTSTAMP:20260419T131947
CREATED:20210202T184135Z
LAST-MODIFIED:20260312T184605Z
UID:4066-1612879200-1612884600@orangetreecommunity.com
SUMMARY:St. Ives BOD Meeting
DESCRIPTION:Please join the meeting via phone or video\, an email will be sent with a link and information\, please update your email address with the HOA Office.
URL:https://orangetreecommunity.com/calendar/st-ives-bod-meeting-23/
CATEGORIES:Board
END:VEVENT
BEGIN:VEVENT
DTSTART;TZID=America/New_York:20210120T133000
DTEND;TZID=America/New_York:20210120T150000
DTSTAMP:20260419T131947
CREATED:20210108T194733Z
LAST-MODIFIED:20260312T184605Z
UID:4005-1611149400-1611154800@orangetreecommunity.com
SUMMARY:Orange Tree Master BOD Meeting
DESCRIPTION:Please join the meeting via phone or video\, an email will be sent with a link and information\, please update your email address with the HOA Office.
URL:https://orangetreecommunity.com/calendar/orange-tree-master-bod-meeting-4/
CATEGORIES:Board
END:VEVENT
BEGIN:VEVENT
DTSTART;TZID=America/New_York:20210119T140000
DTEND;TZID=America/New_York:20210119T153000
DTSTAMP:20260419T131947
CREATED:20210108T194630Z
LAST-MODIFIED:20260312T184605Z
UID:4003-1611064800-1611070200@orangetreecommunity.com
SUMMARY:St. Ives BOD Meeting
DESCRIPTION:Please join the meeting via phone or video\, an email will be sent with a link and information\, please update your email address with the HOA Office.
URL:https://orangetreecommunity.com/calendar/st-ives-bod-meeting-22/
CATEGORIES:Board
END:VEVENT
BEGIN:VEVENT
DTSTART;TZID=America/New_York:20210113T133000
DTEND;TZID=America/New_York:20210113T150000
DTSTAMP:20260419T131947
CREATED:20210108T194316Z
LAST-MODIFIED:20260312T184605Z
UID:4001-1610544600-1610550000@orangetreecommunity.com
SUMMARY:Estate Homes BOD Meeting
DESCRIPTION:Please join the meeting via phone or video\, an email will be sent with a link and information\, please update your email address with the HOA Office.
URL:https://orangetreecommunity.com/calendar/estate-homes-bod-meeting-16/
CATEGORIES:Board
END:VEVENT
BEGIN:VEVENT
DTSTART;TZID=America/New_York:20210111T133000
DTEND;TZID=America/New_York:20210111T150000
DTSTAMP:20260419T131947
CREATED:20210108T193945Z
LAST-MODIFIED:20260312T184606Z
UID:3999-1610371800-1610377200@orangetreecommunity.com
SUMMARY:Golf Villas BOD Meeting
DESCRIPTION:The Golf Villa BOD Meeting\, will be held at the Recreation Center\, fallowing all social distancing guidelines.\nan email will be sent out to all homeowners with information on how to attend the meeting via phone or video.
URL:https://orangetreecommunity.com/calendar/golf-villas-bod-meeting-13/
CATEGORIES:Board
END:VEVENT
BEGIN:VEVENT
DTSTART;TZID=America/New_York:20201118T133000
DTEND;TZID=America/New_York:20201118T150000
DTSTAMP:20260419T131947
CREATED:20201105T002300Z
LAST-MODIFIED:20260312T184606Z
UID:3927-1605706200-1605711600@orangetreecommunity.com
SUMMARY:Master Budget and BOD Meeting (Closed meeting to follow)
DESCRIPTION:Please join the meeting via phone or video\, an email has been sent with link information. \nPlease update your email address with the HOA office.
URL:https://orangetreecommunity.com/calendar/master-budget-meeting/
CATEGORIES:Board
END:VEVENT
BEGIN:VEVENT
DTSTART;TZID=America/New_York:20201117T133000
DTEND;TZID=America/New_York:20201117T150000
DTSTAMP:20260419T131947
CREATED:20201105T001950Z
LAST-MODIFIED:20260312T184606Z
UID:3925-1605619800-1605625200@orangetreecommunity.com
SUMMARY:St Ives Budget and BOD Meeting
DESCRIPTION:Please join the meeting via phone or video\, an email has been sent with link information. \nPlease update your email address with the HOA office.
URL:https://orangetreecommunity.com/calendar/st-ives-budget-meeting-and-bod-meeting/
CATEGORIES:Board
END:VEVENT
BEGIN:VEVENT
DTSTART;TZID=America/New_York:20201111T133000
DTEND;TZID=America/New_York:20201111T150000
DTSTAMP:20260419T131947
CREATED:20201105T002935Z
LAST-MODIFIED:20260312T184606Z
UID:3933-1605101400-1605106800@orangetreecommunity.com
SUMMARY:Estate Homes Budget and BOD Meeting
DESCRIPTION:Please join the meeting via phone or video\, an email has been sent with link information. \nPlease update your email address with the HOA office.
URL:https://orangetreecommunity.com/calendar/estate-homes-budget-and-bod-meeting/
CATEGORIES:Board
END:VEVENT
BEGIN:VEVENT
DTSTART;TZID=America/New_York:20201109T133000
DTEND;TZID=America/New_York:20201109T150000
DTSTAMP:20260419T131947
CREATED:20201105T002644Z
LAST-MODIFIED:20260312T184606Z
UID:3929-1604928600-1604934000@orangetreecommunity.com
SUMMARY:Golf Villas Budget and BOD Meeting
DESCRIPTION:Please join the meeting via phone\, video\, or in-person at the Recreation Center\, an email has been sent with link information. \nPlease update your email address with the HOA office.
URL:https://orangetreecommunity.com/calendar/golf-villas-budget-and-bod-meeting/
CATEGORIES:Board
END:VEVENT
BEGIN:VEVENT
DTSTART;TZID=America/New_York:20201028T143000
DTEND;TZID=America/New_York:20201028T160000
DTSTAMP:20260419T131947
CREATED:20201028T013821Z
LAST-MODIFIED:20260312T184606Z
UID:3915-1603895400-1603900800@orangetreecommunity.com
SUMMARY:Orange Tree Master Town Hall 2021 Budget Meeting
DESCRIPTION:Please join the Town hall Via Phone or Video\, an Email has been sent to you with a link.\nPlease stop by the HOA Office to pick up a hard copy of the Proposed Budget.\nNot receiving emails ?\, Please update your email with the office
URL:https://orangetreecommunity.com/calendar/orange-tree-master-town-hall-2021-budget-meeting/
CATEGORIES:Board
END:VEVENT
BEGIN:VEVENT
DTSTART;TZID=America/New_York:20201021T023000
DTEND;TZID=America/New_York:20201021T160000
DTSTAMP:20260419T131947
CREATED:20201002T230717Z
LAST-MODIFIED:20260312T184607Z
UID:3836-1603247400-1603296000@orangetreecommunity.com
SUMMARY:Master Board BOD Meeting
DESCRIPTION:Join the meeting via phone or video\, an email will be sent out with link information.\nPlease update your email with the HOA Office.
URL:https://orangetreecommunity.com/calendar/master-board-bod-meeting/
CATEGORIES:Board
END:VEVENT
BEGIN:VEVENT
DTSTART;TZID=America/New_York:20201020T150000
DTEND;TZID=America/New_York:20201020T160000
DTSTAMP:20260419T131947
CREATED:20201002T230618Z
LAST-MODIFIED:20260312T184607Z
UID:3834-1603206000-1603209600@orangetreecommunity.com
SUMMARY:St Ives BOD Meeting
DESCRIPTION:Join the meeting via phone or video\, an email will be sent out with link information.\nPlease update your email with the HOA Office.
URL:https://orangetreecommunity.com/calendar/st-ives-bod-meeting-21/
CATEGORIES:Board
END:VEVENT
BEGIN:VEVENT
DTSTART;TZID=America/New_York:20201015T143000
DTEND;TZID=America/New_York:20201015T160000
DTSTAMP:20260419T131947
CREATED:20201016T164145Z
LAST-MODIFIED:20260312T184607Z
UID:3906-1602772200-1602777600@orangetreecommunity.com
SUMMARY:Special Meeting
DESCRIPTION:Please join the meeting via phone or video\na link will be emailed to you\, please update your email address by contacting the HOA Office
URL:https://orangetreecommunity.com/calendar/special-meeting/
CATEGORIES:Board
END:VEVENT
BEGIN:VEVENT
DTSTART;TZID=America/New_York:20201014T143000
DTEND;TZID=America/New_York:20201014T160000
DTSTAMP:20260419T131947
CREATED:20201002T230319Z
LAST-MODIFIED:20260312T184607Z
UID:3832-1602685800-1602691200@orangetreecommunity.com
SUMMARY:Estate Homes BOD Meeting
DESCRIPTION:Join the meeting via phone or video\, an email will be sent out with link information.\nPlease update your email with the HOA Office.
URL:https://orangetreecommunity.com/calendar/estate-homes-bod-meeting-15/
CATEGORIES:Board
END:VEVENT
END:VCALENDAR