BEGIN:VCALENDAR
VERSION:2.0
PRODID:-//Orange Tree Community Association - ECPv6.15.18//NONSGML v1.0//EN
CALSCALE:GREGORIAN
METHOD:PUBLISH
X-ORIGINAL-URL:https://orangetreecommunity.com
X-WR-CALDESC:Events for Orange Tree Community Association
REFRESH-INTERVAL;VALUE=DURATION:PT1H
X-Robots-Tag:noindex
X-PUBLISHED-TTL:PT1H
BEGIN:VTIMEZONE
TZID:America/New_York
BEGIN:DAYLIGHT
TZOFFSETFROM:-0500
TZOFFSETTO:-0400
TZNAME:EDT
DTSTART:20240310T070000
END:DAYLIGHT
BEGIN:STANDARD
TZOFFSETFROM:-0400
TZOFFSETTO:-0500
TZNAME:EST
DTSTART:20241103T060000
END:STANDARD
BEGIN:DAYLIGHT
TZOFFSETFROM:-0500
TZOFFSETTO:-0400
TZNAME:EDT
DTSTART:20250309T070000
END:DAYLIGHT
BEGIN:STANDARD
TZOFFSETFROM:-0400
TZOFFSETTO:-0500
TZNAME:EST
DTSTART:20251102T060000
END:STANDARD
BEGIN:DAYLIGHT
TZOFFSETFROM:-0500
TZOFFSETTO:-0400
TZNAME:EDT
DTSTART:20260308T070000
END:DAYLIGHT
BEGIN:STANDARD
TZOFFSETFROM:-0400
TZOFFSETTO:-0500
TZNAME:EST
DTSTART:20261101T060000
END:STANDARD
END:VTIMEZONE
BEGIN:VEVENT
DTSTART;TZID=America/New_York:20250212T133000
DTEND;TZID=America/New_York:20250212T150000
DTSTAMP:20260423T080819
CREATED:20250208T074738Z
LAST-MODIFIED:20260312T183907Z
UID:7397-1739367000-1739372400@orangetreecommunity.com
SUMMARY:ESTATE HOMES BOD MEETING
DESCRIPTION:The Estate Homes Board Of Directors Meeting will be held at the Orange Tree Recreation Center
URL:https://orangetreecommunity.com/calendar/estate-homes-bod-meeting-40/
CATEGORIES:Board
END:VEVENT
BEGIN:VEVENT
DTSTART;TZID=America/New_York:20250218T140000
DTEND;TZID=America/New_York:20250218T153000
DTSTAMP:20260423T080819
CREATED:20250208T075326Z
LAST-MODIFIED:20260312T183907Z
UID:7401-1739887200-1739892600@orangetreecommunity.com
SUMMARY:ST. IVES BOD MEETING
DESCRIPTION:The St. Ives Board of Directors meeting will be held online via Go To Meeting\nA meeting link will be provided via email \nPlease contact the HOA Office to update your email address\, thank you.
URL:https://orangetreecommunity.com/calendar/st-ives-bod-meeting-38/
CATEGORIES:Board
END:VEVENT
BEGIN:VEVENT
DTSTART;TZID=America/New_York:20250219T133000
DTEND;TZID=America/New_York:20250219T150000
DTSTAMP:20260423T080819
CREATED:20250208T075737Z
LAST-MODIFIED:20260312T183907Z
UID:7405-1739971800-1739977200@orangetreecommunity.com
SUMMARY:OT MASTER BOD MEETING
DESCRIPTION:The Orange Tree Board of Directors Meeting will be held at the Orange Tree Recreation Center
URL:https://orangetreecommunity.com/calendar/ot-master-bod-meeting-3/
CATEGORIES:Board
END:VEVENT
END:VCALENDAR