BEGIN:VCALENDAR
VERSION:2.0
PRODID:-//Orange Tree Community Association - ECPv6.15.18//NONSGML v1.0//EN
CALSCALE:GREGORIAN
METHOD:PUBLISH
X-ORIGINAL-URL:https://orangetreecommunity.com
X-WR-CALDESC:Events for Orange Tree Community Association
REFRESH-INTERVAL;VALUE=DURATION:PT1H
X-Robots-Tag:noindex
X-PUBLISHED-TTL:PT1H
BEGIN:VTIMEZONE
TZID:America/New_York
BEGIN:DAYLIGHT
TZOFFSETFROM:-0500
TZOFFSETTO:-0400
TZNAME:EDT
DTSTART:20240310T070000
END:DAYLIGHT
BEGIN:STANDARD
TZOFFSETFROM:-0400
TZOFFSETTO:-0500
TZNAME:EST
DTSTART:20241103T060000
END:STANDARD
BEGIN:DAYLIGHT
TZOFFSETFROM:-0500
TZOFFSETTO:-0400
TZNAME:EDT
DTSTART:20250309T070000
END:DAYLIGHT
BEGIN:STANDARD
TZOFFSETFROM:-0400
TZOFFSETTO:-0500
TZNAME:EST
DTSTART:20251102T060000
END:STANDARD
BEGIN:DAYLIGHT
TZOFFSETFROM:-0500
TZOFFSETTO:-0400
TZNAME:EDT
DTSTART:20260308T070000
END:DAYLIGHT
BEGIN:STANDARD
TZOFFSETFROM:-0400
TZOFFSETTO:-0500
TZNAME:EST
DTSTART:20261101T060000
END:STANDARD
END:VTIMEZONE
BEGIN:VEVENT
DTSTART;TZID=America/New_York:20250113T133000
DTEND;TZID=America/New_York:20250113T150000
DTSTAMP:20260423T094611
CREATED:20250104T025410Z
LAST-MODIFIED:20260312T184008Z
UID:7359-1736775000-1736780400@orangetreecommunity.com
SUMMARY:Golf Villas BOD Meeting
DESCRIPTION:The Golf Villas Board of Directors Meeting will be held at the Orange Tree Recreation Center.
URL:https://orangetreecommunity.com/calendar/golf-villas-bod-meeting-28/
CATEGORIES:Board
END:VEVENT
BEGIN:VEVENT
DTSTART;TZID=America/New_York:20250115T133000
DTEND;TZID=America/New_York:20250115T150000
DTSTAMP:20260423T094611
CREATED:20250104T025908Z
LAST-MODIFIED:20260312T184008Z
UID:7361-1736947800-1736953200@orangetreecommunity.com
SUMMARY:OT Master BOD Meeting
DESCRIPTION:The Orange Tree Master Board Meeting will be held at the Orange Tree Recreation Center.
URL:https://orangetreecommunity.com/calendar/ot-master-bod-meeting-2/
CATEGORIES:Board
END:VEVENT
BEGIN:VEVENT
DTSTART;TZID=America/New_York:20250121T140000
DTEND;TZID=America/New_York:20250121T153000
DTSTAMP:20260423T094611
CREATED:20250104T030316Z
LAST-MODIFIED:20260312T183907Z
UID:7363-1737468000-1737473400@orangetreecommunity.com
SUMMARY:St. Ives BOD Online Meeting
DESCRIPTION:The St. Ives Board of Directors Meeting will be held online via GoToMeeting\nAn email with a meeting link will be sent.\nPlease contact the HOA Office to update your email address
URL:https://orangetreecommunity.com/calendar/st-ives-bod-online-meeting-4/
CATEGORIES:Board
END:VEVENT
END:VCALENDAR