BEGIN:VCALENDAR
VERSION:2.0
PRODID:-//Orange Tree Community Association - ECPv6.15.18//NONSGML v1.0//EN
CALSCALE:GREGORIAN
METHOD:PUBLISH
X-ORIGINAL-URL:https://orangetreecommunity.com
X-WR-CALDESC:Events for Orange Tree Community Association
REFRESH-INTERVAL;VALUE=DURATION:PT1H
X-Robots-Tag:noindex
X-PUBLISHED-TTL:PT1H
BEGIN:VTIMEZONE
TZID:America/New_York
BEGIN:DAYLIGHT
TZOFFSETFROM:-0500
TZOFFSETTO:-0400
TZNAME:EDT
DTSTART:20230312T070000
END:DAYLIGHT
BEGIN:STANDARD
TZOFFSETFROM:-0400
TZOFFSETTO:-0500
TZNAME:EST
DTSTART:20231105T060000
END:STANDARD
BEGIN:DAYLIGHT
TZOFFSETFROM:-0500
TZOFFSETTO:-0400
TZNAME:EDT
DTSTART:20240310T070000
END:DAYLIGHT
BEGIN:STANDARD
TZOFFSETFROM:-0400
TZOFFSETTO:-0500
TZNAME:EST
DTSTART:20241103T060000
END:STANDARD
BEGIN:DAYLIGHT
TZOFFSETFROM:-0500
TZOFFSETTO:-0400
TZNAME:EDT
DTSTART:20250309T070000
END:DAYLIGHT
BEGIN:STANDARD
TZOFFSETFROM:-0400
TZOFFSETTO:-0500
TZNAME:EST
DTSTART:20251102T060000
END:STANDARD
END:VTIMEZONE
BEGIN:VEVENT
DTSTART;TZID=America/New_York:20240911T143000
DTEND;TZID=America/New_York:20240911T160000
DTSTAMP:20260423T162556
CREATED:20240827T234753Z
LAST-MODIFIED:20260312T184009Z
UID:7192-1726065000-1726070400@orangetreecommunity.com
SUMMARY:ESTATE HOMES BOD MEETING
DESCRIPTION:The Estate Homes Meeting will be held at the Orange Tree Recreation Center\nA Closed Meeting will follow\nEH Agenda 9 11 2024
URL:https://orangetreecommunity.com/calendar/estate-homes-bod-meeting-39/
CATEGORIES:Board
END:VEVENT
BEGIN:VEVENT
DTSTART;TZID=America/New_York:20240916T143000
DTEND;TZID=America/New_York:20240916T160000
DTSTAMP:20260423T162556
CREATED:20240912T194525Z
LAST-MODIFIED:20260312T184009Z
UID:7223-1726497000-1726502400@orangetreecommunity.com
SUMMARY:GOLF VILLAS BOD MEETING
DESCRIPTION:The Golf Villas Meeting will be held at the Orange Tree Community Rec Center \nGolf Villas Agenda 9-16-2024
URL:https://orangetreecommunity.com/calendar/golf-villas-bod-meeting-27/
CATEGORIES:Board
END:VEVENT
BEGIN:VEVENT
DTSTART;TZID=America/New_York:20240917T150000
DTEND;TZID=America/New_York:20240917T163000
DTSTAMP:20260423T162556
CREATED:20240827T235129Z
LAST-MODIFIED:20260312T184009Z
UID:7194-1726585200-1726590600@orangetreecommunity.com
SUMMARY:ST. IVES BOD ONLINE MEETING
DESCRIPTION:The St. Ives online meeting will be held via GoToMeeting.com\nAn email with a meeting link will be sent out\nPlease contact the HOA Office to update your email address\, thank you. \nSt. Ives Agenda – 09-17-24
URL:https://orangetreecommunity.com/calendar/st-ives-bod-online-meeting-3/
CATEGORIES:Board
END:VEVENT
BEGIN:VEVENT
DTSTART;TZID=America/New_York:20240918T143000
DTEND;TZID=America/New_York:20240918T160000
DTSTAMP:20260423T162556
CREATED:20240828T000542Z
LAST-MODIFIED:20260312T184009Z
UID:7196-1726669800-1726675200@orangetreecommunity.com
SUMMARY:OT MASTER BOD MEETING
DESCRIPTION:The Orange Tree Master Board of Directors meeting will be held at the Orange Tree Recreation Center.  \nOTMMA Agenda -9-18-2024
URL:https://orangetreecommunity.com/calendar/ot-master-bod-meeting/
CATEGORIES:Board
END:VEVENT
END:VCALENDAR